BEGIN:VCALENDAR
VERSION:2.0
PRODID:-//MCANWO - ECPv6.15.17.1//NONSGML v1.0//EN
CALSCALE:GREGORIAN
METHOD:PUBLISH
X-WR-CALNAME:MCANWO
X-ORIGINAL-URL:https://mcanwo.org
X-WR-CALDESC:Events for MCANWO
REFRESH-INTERVAL;VALUE=DURATION:PT1H
X-Robots-Tag:noindex
X-PUBLISHED-TTL:PT1H
BEGIN:VTIMEZONE
TZID:UTC
BEGIN:STANDARD
TZOFFSETFROM:+0000
TZOFFSETTO:+0000
TZNAME:UTC
DTSTART:20250101T000000
END:STANDARD
END:VTIMEZONE
BEGIN:VEVENT
DTSTART;TZID=UTC:20260426T080000
DTEND;TZID=UTC:20260426T170000
DTSTAMP:20260424T030554
CREATED:20251013T145456Z
LAST-MODIFIED:20251013T145456Z
UID:111437-1777190400-1777222800@mcanwo.org
SUMMARY:2026 NCPWB Annual Technical Conference
DESCRIPTION:April 26\, 2026 – April 28\, 2026 Hyatt Regency Hill Country Resort and Spa 9800 Hyatt Resort Dr\, San Antonio\, TX
URL:https://mcanwo.org/event/2026-ncpwb-annual-technical-conference/
CATEGORIES:Meetings / Events
END:VEVENT
BEGIN:VEVENT
DTSTART;TZID=UTC:20260430T170000
DTEND;TZID=UTC:20260430T210000
DTSTAMP:20260424T030554
CREATED:20250619T125237Z
LAST-MODIFIED:20250619T125838Z
UID:111364-1777568400-1777582800@mcanwo.org
SUMMARY:Medical Gas Recertification
DESCRIPTION:📣 Medical Gas Recertification \n📅 April 30 to May 7\, 2026\n📍 Piping Industry Training Center\n💲Cost: $150.00 \nThe Piping Industry Training Center will be hosting a Medical Gas Installer – Recertification from April 30 to May 7\, 2026. \nThis is a great opportunity to get certified and stay compliant with industry requirements. \nTo register\, please contact:\nEd VanAtta\n📧 Edward@nwopitc.com \nSpace is limited—register early to secure your spot!
URL:https://mcanwo.org/event/medical-gas-recertification-8/
LOCATION:Piping Industry Training Center\, 7560 Caple Blvd\, Northwood\, OH\, 43619\, United States
CATEGORIES:PITC Training
END:VEVENT
END:VCALENDAR