BEGIN:VCALENDAR
VERSION:2.0
PRODID:-//MCANWO - ECPv6.15.17.1//NONSGML v1.0//EN
CALSCALE:GREGORIAN
METHOD:PUBLISH
X-ORIGINAL-URL:https://mcanwo.org
X-WR-CALDESC:Events for MCANWO
REFRESH-INTERVAL;VALUE=DURATION:PT1H
X-Robots-Tag:noindex
X-PUBLISHED-TTL:PT1H
BEGIN:VTIMEZONE
TZID:UTC
BEGIN:STANDARD
TZOFFSETFROM:+0000
TZOFFSETTO:+0000
TZNAME:UTC
DTSTART:20250101T000000
END:STANDARD
END:VTIMEZONE
BEGIN:VEVENT
DTSTART;TZID=UTC:20260311T170000
DTEND;TZID=UTC:20260311T210000
DTSTAMP:20260424T041331
CREATED:20250619T124324Z
LAST-MODIFIED:20250619T135930Z
UID:111354-1773248400-1773262800@mcanwo.org
SUMMARY:Backflow Certification
DESCRIPTION:  \n📣 Backflow Certification Training \n📅 March 11 to April 13\, 2026\n📍 Piping Industry Training Center\n💲Cost: $350.00 \nThe Piping Industry Training Center will be hosting a Backflow Certification Course from September 17 through September 24\, 2025. \nThis is a great opportunity to get certified and stay compliant with industry requirements. \nTo register\, please contact:\nEd VanAtta\n📧 Edward@nwopitc.com \nSpace is limited—register early to secure your spot!
URL:https://mcanwo.org/event/backflow-certification-3/
LOCATION:Piping Industry Training Center\, 7560 Caple Blvd\, Northwood\, OH\, 43619\, United States
CATEGORIES:PITC Training
END:VEVENT
BEGIN:VEVENT
DTSTART;TZID=UTC:20260315T080000
DTEND;TZID=UTC:20260315T170000
DTSTAMP:20260424T041331
CREATED:20250326T183322Z
LAST-MODIFIED:20250326T183322Z
UID:111305-1773561600-1773594000@mcanwo.org
SUMMARY:2026 MCAA Annual Conference
DESCRIPTION:
URL:https://mcanwo.org/event/2026-mcaa-annual-conference/
CATEGORIES:Meetings / Events,Contractor Education
END:VEVENT
BEGIN:VEVENT
DTSTART;TZID=UTC:20260323T170000
DTEND;TZID=UTC:20260323T210000
DTSTAMP:20260424T041331
CREATED:20250619T125604Z
LAST-MODIFIED:20250619T125604Z
UID:111368-1774285200-1774299600@mcanwo.org
SUMMARY:Rigging Recertification
DESCRIPTION:📣 Rigging Rectification\n📅 March 23 to April 6\, 2026\n📍 Piping Industry Training Center\n💲Cost: $50.00 \nThe Piping Industry Training Center will be hosting a Rigging- Recertification from March 23 to April 6\, 2026 \nThis is a great opportunity to get certified and stay compliant with industry requirements. \nTo register\, please contact:\nEd VanAtta\n📧 Edward@nwopitc.com \nSpace is limited—register early to secure your spot!
URL:https://mcanwo.org/event/rigging-recertification-8/
LOCATION:Piping Industry Training Center\, 7560 Caple Blvd\, Northwood\, OH\, 43619\, United States
CATEGORIES:PITC Training
END:VEVENT
END:VCALENDAR