BEGIN:VCALENDAR
VERSION:2.0
PRODID:-//MCANWO - ECPv6.15.17.1//NONSGML v1.0//EN
CALSCALE:GREGORIAN
METHOD:PUBLISH
X-WR-CALNAME:MCANWO
X-ORIGINAL-URL:https://mcanwo.org
X-WR-CALDESC:Events for MCANWO
REFRESH-INTERVAL;VALUE=DURATION:PT1H
X-Robots-Tag:noindex
X-PUBLISHED-TTL:PT1H
BEGIN:VTIMEZONE
TZID:UTC
BEGIN:STANDARD
TZOFFSETFROM:+0000
TZOFFSETTO:+0000
TZNAME:UTC
DTSTART:20250101T000000
END:STANDARD
END:VTIMEZONE
BEGIN:VEVENT
DTSTART;TZID=UTC:20260204T170000
DTEND;TZID=UTC:20260204T210000
DTSTAMP:20260424T054204
CREATED:20250619T124215Z
LAST-MODIFIED:20250619T124215Z
UID:111352-1770224400-1770238800@mcanwo.org
SUMMARY:Backflow Recertification
DESCRIPTION:  \n📣 Backflow Certification Training – Recertification\n📅 February 4\, 2026 to February 11\, 2026\n📍 Piping Industry Training Center\n💲Cost: $150.00 \nThe Piping Industry Training Center will be hosting a Backflow Certification Course from September 17 through September 24\, 2025. \nThis is a great opportunity to get certified and stay compliant with industry requirements. \nTo register\, please contact:\nEd VanAtta\n📧 Edward@nwopitc.com \nSpace is limited—register early to secure your spot!
URL:https://mcanwo.org/event/backflow-recertification-9/
LOCATION:Piping Industry Training Center\, 7560 Caple Blvd\, Northwood\, OH\, 43619\, United States
CATEGORIES:PITC Training
END:VEVENT
BEGIN:VEVENT
DTSTART;TZID=UTC:20260213T110000
DTEND;TZID=UTC:20260213T123000
DTSTAMP:20260424T054204
CREATED:20251211T161313Z
LAST-MODIFIED:20251211T161313Z
UID:111482-1770980400-1770985800@mcanwo.org
SUMMARY:Virtual Education - AI Risk Management: How Smart Contractors Prevent Legal Disaster Before They Start
DESCRIPTION:
URL:https://mcanwo.org/event/virtual-education-ai-risk-management-how-smart-contractors-prevent-legal-disaster-before-they-start/
LOCATION:Virtual
CATEGORIES:Contractor Education
END:VEVENT
BEGIN:VEVENT
DTSTART;TZID=UTC:20260218T100000
DTEND;TZID=UTC:20260218T110000
DTSTAMP:20260424T054204
CREATED:20251021T190255Z
LAST-MODIFIED:20260109T144600Z
UID:111445-1771408800-1771412400@mcanwo.org
SUMMARY:Executive BOD Meeting
DESCRIPTION:
URL:https://mcanwo.org/event/executive-bod-meeting/
LOCATION:Real Seafood\, 22 Main Street\, Toledo\, OH\, 43605\, United States
CATEGORIES:Meetings / Events
END:VEVENT
BEGIN:VEVENT
DTSTART;TZID=UTC:20260218T110000
DTEND;TZID=UTC:20260218T123000
DTSTAMP:20260424T054204
CREATED:20251021T190341Z
LAST-MODIFIED:20260109T144657Z
UID:111447-1771412400-1771417800@mcanwo.org
SUMMARY:MCA February Membership Meeting
DESCRIPTION:
URL:https://mcanwo.org/event/mca-february-membership-meeting/
LOCATION:Real Seafood\, 22 Main Street\, Toledo\, OH\, 43605\, United States
CATEGORIES:Meetings / Events
END:VEVENT
END:VCALENDAR