BEGIN:VCALENDAR
VERSION:2.0
PRODID:-//MCANWO - ECPv6.15.17.1//NONSGML v1.0//EN
CALSCALE:GREGORIAN
METHOD:PUBLISH
X-ORIGINAL-URL:https://mcanwo.org
X-WR-CALDESC:Events for MCANWO
REFRESH-INTERVAL;VALUE=DURATION:PT1H
X-Robots-Tag:noindex
X-PUBLISHED-TTL:PT1H
BEGIN:VTIMEZONE
TZID:UTC
BEGIN:STANDARD
TZOFFSETFROM:+0000
TZOFFSETTO:+0000
TZNAME:UTC
DTSTART:20250101T000000
END:STANDARD
END:VTIMEZONE
BEGIN:VEVENT
DTSTART;TZID=UTC:20260107T113000
DTEND;TZID=UTC:20260107T123000
DTSTAMP:20260424T070107
CREATED:20251013T144912Z
LAST-MODIFIED:20251013T145329Z
UID:111433-1767785400-1767789000@mcanwo.org
SUMMARY:NCPWB Chapter 24 Annual Meeting
DESCRIPTION:
URL:https://mcanwo.org/event/ncpwb-annual-meeting/
LOCATION:MCA of NW Ohio
CATEGORIES:Meetings / Events
END:VEVENT
BEGIN:VEVENT
DTSTART;TZID=UTC:20260108T170000
DTEND;TZID=UTC:20260108T210000
DTSTAMP:20260424T070107
CREATED:20250619T140346Z
LAST-MODIFIED:20250619T140413Z
UID:111375-1767891600-1767906000@mcanwo.org
SUMMARY:Medical Gas Installer
DESCRIPTION:📣 Medical Gas Installer \n📅 January 8 to April 2\, 2026\n📍 Piping Industry Training Center\n💲Cost: $350.00 \nThe Piping Industry Training Center will be hosting a Medical Gas Installer from January 8 to April 2\, 2026. \nThis is a great opportunity to get certified and stay compliant with industry requirements. \nTo register\, please contact:\nEd VanAtta\n📧 Edward@nwopitc.com \nSpace is limited—register early to secure your spot!
URL:https://mcanwo.org/event/111375/
LOCATION:Piping Industry Training Center\, 7560 Caple Blvd\, Northwood\, OH\, 43619\, United States
CATEGORIES:PITC Training
END:VEVENT
BEGIN:VEVENT
DTSTART;TZID=UTC:20260114T113000
DTEND;TZID=UTC:20260114T123000
DTSTAMP:20260424T070107
CREATED:20251013T145759Z
LAST-MODIFIED:20251013T145759Z
UID:111439-1768390200-1768393800@mcanwo.org
SUMMARY:MCA Membership Meeting - Service Contractors
DESCRIPTION:
URL:https://mcanwo.org/event/mca-membership-meeting-service-contractors/
LOCATION:MCA of NW Ohio
CATEGORIES:Meetings / Events
END:VEVENT
BEGIN:VEVENT
DTSTART;TZID=UTC:20260114T170000
DTEND;TZID=UTC:20260114T210000
DTSTAMP:20260424T070107
CREATED:20250619T125125Z
LAST-MODIFIED:20250619T125125Z
UID:111362-1768410000-1768424400@mcanwo.org
SUMMARY:Medical Gas Recertification
DESCRIPTION:📣 Medical Gas Rectification\n📅 January 14 to January 21\, 2026\n📍 Piping Industry Training Center\n💲Cost: $150.00 \nThe Piping Industry Training Center will be hosting a Medical Gas Installer – Recertification from January 14 to January 21\, 2026. \nThis is a great opportunity to get certified and stay compliant with industry requirements. \nTo register\, please contact:\nEd VanAtta\n📧 Edward@nwopitc.com \nSpace is limited—register early to secure your spot!
URL:https://mcanwo.org/event/medical-gas-recertification-7/
LOCATION:Piping Industry Training Center\, 7560 Caple Blvd\, Northwood\, OH\, 43619\, United States
CATEGORIES:PITC Training
END:VEVENT
END:VCALENDAR