BEGIN:VCALENDAR
VERSION:2.0
PRODID:-//MCANWO - ECPv6.15.17.1//NONSGML v1.0//EN
CALSCALE:GREGORIAN
METHOD:PUBLISH
X-WR-CALNAME:MCANWO
X-ORIGINAL-URL:https://mcanwo.org
X-WR-CALDESC:Events for MCANWO
REFRESH-INTERVAL;VALUE=DURATION:PT1H
X-Robots-Tag:noindex
X-PUBLISHED-TTL:PT1H
BEGIN:VTIMEZONE
TZID:UTC
BEGIN:STANDARD
TZOFFSETFROM:+0000
TZOFFSETTO:+0000
TZNAME:UTC
DTSTART:20230101T000000
END:STANDARD
END:VTIMEZONE
BEGIN:VEVENT
DTSTART;TZID=UTC:20241203T170000
DTEND;TZID=UTC:20241203T210000
DTSTAMP:20260424T235621
CREATED:20240815T181702Z
LAST-MODIFIED:20240815T181702Z
UID:111164-1733245200-1733259600@mcanwo.org
SUMMARY:Rigging Recertification - Journeyman Class (PITC)
DESCRIPTION:Please contact the Piping Industry Training Center at 419-666-7482 to schedule.
URL:https://mcanwo.org/event/rigging-recertification-journeyman-class-pitc-2/
LOCATION:Piping Industry Training Center\, 7560 Caple Blvd\, Northwood\, OH\, 43619\, United States
CATEGORIES:PITC Training
END:VEVENT
BEGIN:VEVENT
DTSTART;TZID=UTC:20241204T170000
DTEND;TZID=UTC:20241204T210000
DTSTAMP:20260424T235621
CREATED:20240815T181901Z
LAST-MODIFIED:20240815T181901Z
UID:111168-1733331600-1733346000@mcanwo.org
SUMMARY:Backflow Recertification - Journeyman Class (PITC)
DESCRIPTION:Please contact the Piping Industry Training Center at 419-666-7482 to schedule.
URL:https://mcanwo.org/event/backflow-recertification-journeyman-class-pitc-2/
LOCATION:Piping Industry Training Center\, 7560 Caple Blvd\, Northwood\, OH\, 43619\, United States
CATEGORIES:PITC Training
END:VEVENT
BEGIN:VEVENT
DTSTART;TZID=UTC:20241211T170000
DTEND;TZID=UTC:20241211T210000
DTSTAMP:20260424T235621
CREATED:20240815T182056Z
LAST-MODIFIED:20240815T182056Z
UID:111172-1733936400-1733950800@mcanwo.org
SUMMARY:Medical Gas Recertification - Journeyman Class (PITC)
DESCRIPTION:Please contact the Piping Industry Training Center at 419-666-7482 to schedule.
URL:https://mcanwo.org/event/medical-gas-recertification-journeyman-class-pitc-2/
LOCATION:Piping Industry Training Center\, 7560 Caple Blvd\, Northwood\, OH\, 43619\, United States
CATEGORIES:PITC Training
END:VEVENT
BEGIN:VEVENT
DTSTART;TZID=UTC:20241213T150000
DTEND;TZID=UTC:20241213T180000
DTSTAMP:20260424T235621
CREATED:20240718T141653Z
LAST-MODIFIED:20240718T141653Z
UID:111120-1734102000-1734112800@mcanwo.org
SUMMARY:MCA Holiday Party
DESCRIPTION:
URL:https://mcanwo.org/event/mca-holiday-party/
LOCATION:Inside The Five\, 127 W. 3rd Street\, Perrysburg\, OH\, 43551\, United States
CATEGORIES:Meetings / Events
END:VEVENT
END:VCALENDAR