BEGIN:VCALENDAR
VERSION:2.0
PRODID:-//MCANWO - ECPv6.15.17.1//NONSGML v1.0//EN
CALSCALE:GREGORIAN
METHOD:PUBLISH
X-ORIGINAL-URL:https://mcanwo.org
X-WR-CALDESC:Events for MCANWO
REFRESH-INTERVAL;VALUE=DURATION:PT1H
X-Robots-Tag:noindex
X-PUBLISHED-TTL:PT1H
BEGIN:VTIMEZONE
TZID:UTC
BEGIN:STANDARD
TZOFFSETFROM:+0000
TZOFFSETTO:+0000
TZNAME:UTC
DTSTART:20230101T000000
END:STANDARD
END:VTIMEZONE
BEGIN:VEVENT
DTSTART;TZID=UTC:20241108T090000
DTEND;TZID=UTC:20241108T140000
DTSTAMP:20260425T011504
CREATED:20231214T141131Z
LAST-MODIFIED:20231214T141131Z
UID:111016-1731056400-1731074400@mcanwo.org
SUMMARY:NEC NFPA Electrical Code
DESCRIPTION:
URL:https://mcanwo.org/event/nec-nfpa-electrical-code/
LOCATION:MCA of NW Ohio
CATEGORIES:MCA Training
END:VEVENT
BEGIN:VEVENT
DTSTART;TZID=UTC:20241120T103000
DTEND;TZID=UTC:20241120T113000
DTSTAMP:20260425T011504
CREATED:20240311T153327Z
LAST-MODIFIED:20240311T153327Z
UID:111051-1732098600-1732102200@mcanwo.org
SUMMARY:MCA Executive BOD Meeting
DESCRIPTION:
URL:https://mcanwo.org/event/mca-executive-bod-meeting-8/
LOCATION:MCA of NW Ohio
CATEGORIES:Meetings / Events
END:VEVENT
BEGIN:VEVENT
DTSTART;TZID=UTC:20241120T113000
DTEND;TZID=UTC:20241120T130000
DTSTAMP:20260425T011504
CREATED:20240311T153425Z
LAST-MODIFIED:20240311T153425Z
UID:111053-1732102200-1732107600@mcanwo.org
SUMMARY:MCA November Membership Meeting
DESCRIPTION:
URL:https://mcanwo.org/event/mca-november-membership-meeting/
LOCATION:MCA of NW Ohio
CATEGORIES:Meetings / Events
END:VEVENT
END:VCALENDAR