BEGIN:VCALENDAR
VERSION:2.0
PRODID:-//MCANWO - ECPv6.15.17.1//NONSGML v1.0//EN
CALSCALE:GREGORIAN
METHOD:PUBLISH
X-ORIGINAL-URL:https://mcanwo.org
X-WR-CALDESC:Events for MCANWO
REFRESH-INTERVAL;VALUE=DURATION:PT1H
X-Robots-Tag:noindex
X-PUBLISHED-TTL:PT1H
BEGIN:VTIMEZONE
TZID:UTC
BEGIN:STANDARD
TZOFFSETFROM:+0000
TZOFFSETTO:+0000
TZNAME:UTC
DTSTART:20230101T000000
END:STANDARD
END:VTIMEZONE
BEGIN:VEVENT
DTSTART;TZID=UTC:20240403T170000
DTEND;TZID=UTC:20240403T200000
DTSTAMP:20260425T110143
CREATED:20230728T134849Z
LAST-MODIFIED:20230728T134849Z
UID:110883-1712163600-1712174400@mcanwo.org
SUMMARY:Backflow Recertification
DESCRIPTION:Please contact the Piping Industry Training Center to register 419-666-7482.
URL:https://mcanwo.org/event/backflow-recertification-4/
LOCATION:Piping Industry Training Center\, 7560 Caple Blvd\, Northwood\, OH\, 43619\, United States
CATEGORIES:PITC Training
END:VEVENT
BEGIN:VEVENT
DTSTART;TZID=UTC:20240404T100000
DTEND;TZID=UTC:20240404T113000
DTSTAMP:20260425T110143
CREATED:20240226T154947Z
LAST-MODIFIED:20240226T154947Z
UID:111046-1712224800-1712230200@mcanwo.org
SUMMARY:Virtual Education - Overview of LEED & WELL
DESCRIPTION:TIME TBA \nMore information to come. \nHosted by MCAA Virtual Alliance Group
URL:https://mcanwo.org/event/virtual-education-overview-of-leed-well/
LOCATION:Virtual
END:VEVENT
BEGIN:VEVENT
DTSTART;TZID=UTC:20240408T073000
DTEND;TZID=UTC:20240408T113000
DTSTAMP:20260425T110143
CREATED:20240105T200132Z
LAST-MODIFIED:20240105T200132Z
UID:111035-1712561400-1712575800@mcanwo.org
SUMMARY:First Aid/CPR/AED
DESCRIPTION:
URL:https://mcanwo.org/event/first-aid-cpr-aed-2/
LOCATION:MCA of NW Ohio
CATEGORIES:MCA Training
END:VEVENT
BEGIN:VEVENT
DTSTART;TZID=UTC:20240417T103000
DTEND;TZID=UTC:20240417T113000
DTSTAMP:20260425T110143
CREATED:20231214T132010Z
LAST-MODIFIED:20231214T132010Z
UID:110990-1713349800-1713353400@mcanwo.org
SUMMARY:MCA Executive BOD Meeting
DESCRIPTION:
URL:https://mcanwo.org/event/mca-executive-bod-meeting-5/
LOCATION:MCA of NW Ohio
CATEGORIES:Meetings / Events
END:VEVENT
BEGIN:VEVENT
DTSTART;TZID=UTC:20240417T113000
DTEND;TZID=UTC:20240417T123000
DTSTAMP:20260425T110143
CREATED:20231214T132122Z
LAST-MODIFIED:20231214T132122Z
UID:110992-1713353400-1713357000@mcanwo.org
SUMMARY:MCA April 2024 Membership Meeting
DESCRIPTION:
URL:https://mcanwo.org/event/mca-april-2024-membership-meeting/
LOCATION:Piping Industry Training Center\, 7560 Caple Blvd\, Northwood\, OH\, 43619\, United States
CATEGORIES:Meetings / Events
END:VEVENT
BEGIN:VEVENT
DTSTART;TZID=UTC:20240418T170000
DTEND;TZID=UTC:20240418T200000
DTSTAMP:20260425T110143
CREATED:20230728T135238Z
LAST-MODIFIED:20230728T135238Z
UID:110885-1713459600-1713470400@mcanwo.org
SUMMARY:Medical Gas Recertification
DESCRIPTION:Please contact the Piping Industry Training Center to register 419-666-7482.
URL:https://mcanwo.org/event/medical-gas-recertification-3/
LOCATION:Piping Industry Training Center\, 7560 Caple Blvd\, Northwood\, OH\, 43619\, United States
CATEGORIES:PITC Training
END:VEVENT
END:VCALENDAR