BEGIN:VCALENDAR
VERSION:2.0
PRODID:-//MCANWO - ECPv6.15.17.1//NONSGML v1.0//EN
CALSCALE:GREGORIAN
METHOD:PUBLISH
X-ORIGINAL-URL:https://mcanwo.org
X-WR-CALDESC:Events for MCANWO
REFRESH-INTERVAL;VALUE=DURATION:PT1H
X-Robots-Tag:noindex
X-PUBLISHED-TTL:PT1H
BEGIN:VTIMEZONE
TZID:UTC
BEGIN:STANDARD
TZOFFSETFROM:+0000
TZOFFSETTO:+0000
TZNAME:UTC
DTSTART:20230101T000000
END:STANDARD
END:VTIMEZONE
BEGIN:VEVENT
DTSTART;TZID=UTC:20240102T080000
DTEND;TZID=UTC:20240102T170000
DTSTAMP:20260425T150736
CREATED:20230728T132325Z
LAST-MODIFIED:20230728T132325Z
UID:110871-1704182400-1704214800@mcanwo.org
SUMMARY:Medical Gas Recertification
DESCRIPTION:Please contact the Piping Industry Training Center to register 419-666-7482.
URL:https://mcanwo.org/event/medical-gas-recertification-2/
LOCATION:Piping Industry Training Center\, 7560 Caple Blvd\, Northwood\, OH\, 43619\, United States
CATEGORIES:PITC Training
END:VEVENT
BEGIN:VEVENT
DTSTART;TZID=UTC:20240102T170000
DTEND;TZID=UTC:20240102T200000
DTSTAMP:20260425T150736
CREATED:20230728T132215Z
LAST-MODIFIED:20230728T132215Z
UID:110869-1704214800-1704225600@mcanwo.org
SUMMARY:Valve Repair Certification
DESCRIPTION:Please contact the Piping Industry Training Center to register 419-666-7482.
URL:https://mcanwo.org/event/valve-repair-certification/
LOCATION:Piping Industry Training Center\, 7560 Caple Blvd\, Northwood\, OH\, 43619\, United States
CATEGORIES:PITC Training
END:VEVENT
BEGIN:VEVENT
DTSTART;TZID=UTC:20240103T170000
DTEND;TZID=UTC:20240103T200000
DTSTAMP:20260425T150736
CREATED:20230728T132552Z
LAST-MODIFIED:20230728T132552Z
UID:110873-1704301200-1704312000@mcanwo.org
SUMMARY:UA/MCAA Foreman Certification
DESCRIPTION:Please contact the Piping Industry Training Center to register 419-666-7482.
URL:https://mcanwo.org/event/ua-mcaa-foreman-certification/
LOCATION:Piping Industry Training Center\, 7560 Caple Blvd\, Northwood\, OH\, 43619\, United States
CATEGORIES:PITC Training
END:VEVENT
BEGIN:VEVENT
DTSTART;TZID=UTC:20240103T170000
DTEND;TZID=UTC:20240103T200000
DTSTAMP:20260425T150736
CREATED:20230728T132818Z
LAST-MODIFIED:20230728T132818Z
UID:110875-1704301200-1704312000@mcanwo.org
SUMMARY:Backflow Recertification
DESCRIPTION:Please contact the Piping Industry Training Center to register 419-666-7482.
URL:https://mcanwo.org/event/backflow-recertification-3/
LOCATION:Piping Industry Training Center\, 7560 Caple Blvd\, Northwood\, OH\, 43619\, United States
CATEGORIES:PITC Training
END:VEVENT
BEGIN:VEVENT
DTSTART;TZID=UTC:20240104T100000
DTEND;TZID=UTC:20240104T110000
DTSTAMP:20260425T150736
CREATED:20231214T191538Z
LAST-MODIFIED:20231214T191538Z
UID:111022-1704362400-1704366000@mcanwo.org
SUMMARY:Virtual Education - Understanding Mental Health & Knowing the Signs
DESCRIPTION:Offered through MCAA Affiliate Alliance: \nMSCA of Eastern PA will be partnering with the National Alliance on Mental Illness to present a virtual class on Mental Health Awareness and Knowing the Signs. \nWith the construction industry ranking as the second highest suicide rate among major industries\, the conversation around mental health is crucial.\nPlease join us for an hour-long virtual call to bring awareness and understanding to the topic of mental health. \nFor link\, please contact the MCA at 419-666-6900
URL:https://mcanwo.org/event/virtual-education-understanding-mental-health-knowing-the-signs/
LOCATION:Virtual
CATEGORIES:MCA Training
END:VEVENT
BEGIN:VEVENT
DTSTART;TZID=UTC:20240104T170000
DTEND;TZID=UTC:20240104T200000
DTSTAMP:20260425T150736
CREATED:20230728T134110Z
LAST-MODIFIED:20230728T134110Z
UID:110877-1704387600-1704398400@mcanwo.org
SUMMARY:Rigging Recertification
DESCRIPTION:Please contact the Piping Industry Training Center to register 419-666-7482.
URL:https://mcanwo.org/event/rigging-recertification-2/
LOCATION:Piping Industry Training Center\, 7560 Caple Blvd\, Northwood\, OH\, 43619\, United States
CATEGORIES:PITC Training
END:VEVENT
BEGIN:VEVENT
DTSTART;TZID=UTC:20240110T113000
DTEND;TZID=UTC:20240110T120000
DTSTAMP:20260425T150736
CREATED:20231030T155347Z
LAST-MODIFIED:20231030T155347Z
UID:110963-1704886200-1704888000@mcanwo.org
SUMMARY:NCPWB Chapter 24 Meeting
DESCRIPTION:
URL:https://mcanwo.org/event/ncpwb-chapter-24-meeting-2/
LOCATION:MCA of NW Ohio
CATEGORIES:Meetings / Events
END:VEVENT
BEGIN:VEVENT
DTSTART;TZID=UTC:20240117T103000
DTEND;TZID=UTC:20240117T113000
DTSTAMP:20260425T150736
CREATED:20231102T185511Z
LAST-MODIFIED:20231102T185511Z
UID:110972-1705487400-1705491000@mcanwo.org
SUMMARY:MCA Executive BOD Meetings
DESCRIPTION:
URL:https://mcanwo.org/event/mca-executive-bod-meetings/
LOCATION:Piping Industry Training Center\, 7560 Caple Blvd\, Northwood\, OH\, 43619\, United States
CATEGORIES:Meetings / Events
END:VEVENT
BEGIN:VEVENT
DTSTART;TZID=UTC:20240117T113000
DTEND;TZID=UTC:20240117T130000
DTSTAMP:20260425T150736
CREATED:20231030T155519Z
LAST-MODIFIED:20231213T210349Z
UID:110965-1705491000-1705496400@mcanwo.org
SUMMARY:January 2024 Membership Meeting
DESCRIPTION:January 2024 Membership Meeting
URL:https://mcanwo.org/event/january-2024-membership-meeting/
LOCATION:Piping Industry Training Center\, 7560 Caple Blvd\, Northwood\, OH\, 43619\, United States
CATEGORIES:Meetings / Events
END:VEVENT
END:VCALENDAR