BEGIN:VCALENDAR
VERSION:2.0
PRODID:-//MCANWO - ECPv6.15.17.1//NONSGML v1.0//EN
CALSCALE:GREGORIAN
METHOD:PUBLISH
X-WR-CALNAME:MCANWO
X-ORIGINAL-URL:https://mcanwo.org
X-WR-CALDESC:Events for MCANWO
REFRESH-INTERVAL;VALUE=DURATION:PT1H
X-Robots-Tag:noindex
X-PUBLISHED-TTL:PT1H
BEGIN:VTIMEZONE
TZID:UTC
BEGIN:STANDARD
TZOFFSETFROM:+0000
TZOFFSETTO:+0000
TZNAME:UTC
DTSTART:20220101T000000
END:STANDARD
END:VTIMEZONE
BEGIN:VEVENT
DTSTART;TZID=UTC:20230905T170000
DTEND;TZID=UTC:20230905T200000
DTSTAMP:20260425T212405
CREATED:20230728T131055Z
LAST-MODIFIED:20230728T131055Z
UID:110855-1693933200-1693944000@mcanwo.org
SUMMARY:Rigging Certification
DESCRIPTION:Please contact the Piping Industry Training Center at 419-666-7482 to register.
URL:https://mcanwo.org/event/rigging-certification/
LOCATION:Piping Industry Training Center\, 7560 Caple Blvd\, Northwood\, OH\, 43619\, United States
CATEGORIES:PITC Training
END:VEVENT
BEGIN:VEVENT
DTSTART;TZID=UTC:20230905T170000
DTEND;TZID=UTC:20230905T200000
DTSTAMP:20260425T212405
CREATED:20230728T131222Z
LAST-MODIFIED:20230728T131222Z
UID:110857-1693933200-1693944000@mcanwo.org
SUMMARY:Medical Gas Recertification
DESCRIPTION:Please contact the Piping Industry Training Center to register.
URL:https://mcanwo.org/event/medical-gas-recertification/
LOCATION:Piping Industry Training Center\, 7560 Caple Blvd\, Northwood\, OH\, 43619\, United States
CATEGORIES:PITC Training
END:VEVENT
BEGIN:VEVENT
DTSTART;TZID=UTC:20230906T170000
DTEND;TZID=UTC:20230906T200000
DTSTAMP:20260425T212405
CREATED:20230728T131407Z
LAST-MODIFIED:20230728T131407Z
UID:110859-1694019600-1694030400@mcanwo.org
SUMMARY:Backflow Recertification
DESCRIPTION:Please contact the Piping Industry Training Center to register.
URL:https://mcanwo.org/event/backflow-recertification/
LOCATION:Piping Industry Training Center\, 7560 Caple Blvd\, Northwood\, OH\, 43619\, United States
CATEGORIES:PITC Training
END:VEVENT
BEGIN:VEVENT
DTSTART;TZID=UTC:20230907T090000
DTEND;TZID=UTC:20230907T110000
DTSTAMP:20260425T212405
CREATED:20230720T190800Z
LAST-MODIFIED:20230720T190800Z
UID:110843-1694077200-1694084400@mcanwo.org
SUMMARY:Mechanical Blueprint Reading
DESCRIPTION:Mechanical Blueprint Reading with Blake Wentz  \nThis course will explore the various blueprints that are used in a construction project relating to the HVAC\, Plumbing\, and Fire Protection scopes of work. Typical symbols and drawing conventions will be reviewed\, as well as examples of details and notes that can have significant impacts on a project.
URL:https://mcanwo.org/event/mechanical-blueprint-reading/
LOCATION:Virtual
CATEGORIES:Contractor Education,MCA Training
END:VEVENT
BEGIN:VEVENT
DTSTART;TZID=UTC:20230913T113000
DTEND;TZID=UTC:20230913T130000
DTSTAMP:20260425T212405
CREATED:20230720T190927Z
LAST-MODIFIED:20230720T190927Z
UID:110845-1694604600-1694610000@mcanwo.org
SUMMARY:What Project Managers Need to be Successful
DESCRIPTION:
URL:https://mcanwo.org/event/what-project-managers-need-to-be-successful/
LOCATION:MCA of NW Ohio
CATEGORIES:Contractor Education,MCA Training
END:VEVENT
BEGIN:VEVENT
DTSTART;TZID=UTC:20230920T103000
DTEND;TZID=UTC:20230920T113000
DTSTAMP:20260425T212405
CREATED:20221221T190200Z
LAST-MODIFIED:20221221T190200Z
UID:110345-1695205800-1695209400@mcanwo.org
SUMMARY:September Executive BOD Meeting
DESCRIPTION:
URL:https://mcanwo.org/event/september-executive-bod-meeting/
LOCATION:MCA of NW Ohio
CATEGORIES:Meetings / Events
END:VEVENT
BEGIN:VEVENT
DTSTART;TZID=UTC:20230920T113000
DTEND;TZID=UTC:20230920T130000
DTSTAMP:20260425T212405
CREATED:20221221T190542Z
LAST-MODIFIED:20230106T145607Z
UID:110347-1695209400-1695214800@mcanwo.org
SUMMARY:September Membership Meeting
DESCRIPTION:September Membership Meeting 2023
URL:https://mcanwo.org/event/september-membership-meeting/
LOCATION:MCA of NW Ohio
CATEGORIES:Meetings / Events
END:VEVENT
END:VCALENDAR