BEGIN:VCALENDAR
VERSION:2.0
PRODID:-//MCANWO - ECPv6.15.17.1//NONSGML v1.0//EN
CALSCALE:GREGORIAN
METHOD:PUBLISH
X-WR-CALNAME:MCANWO
X-ORIGINAL-URL:https://mcanwo.org
X-WR-CALDESC:Events for MCANWO
REFRESH-INTERVAL;VALUE=DURATION:PT1H
X-Robots-Tag:noindex
X-PUBLISHED-TTL:PT1H
BEGIN:VTIMEZONE
TZID:UTC
BEGIN:STANDARD
TZOFFSETFROM:+0000
TZOFFSETTO:+0000
TZNAME:UTC
DTSTART:20240101T000000
END:STANDARD
END:VTIMEZONE
BEGIN:VEVENT
DTSTART;TZID=UTC:20251015T170000
DTEND;TZID=UTC:20251015T210000
DTSTAMP:20260421T175412
CREATED:20250619T124933Z
LAST-MODIFIED:20250619T140039Z
UID:111360-1760547600-1760562000@mcanwo.org
SUMMARY:Medical Gas Recertification
DESCRIPTION:📣 Medical Gas Recertification \n📅 October 15 to October 22\, 21025\n📍 Piping Industry Training Center\n💲Cost: $150.00 \nThe Piping Industry Training Center will be hosting a Medical Gas Installer – Recertification from October 15 through October 22\, 2025. \nThis is a great opportunity to get certified and stay compliant with industry requirements. \nTo register\, please contact:\nEd VanAtta\n📧 Edward@nwopitc.com \nSpace is limited—register early to secure your spot!
URL:https://mcanwo.org/event/medical-gas-recertification-6/
LOCATION:Piping Industry Training Center\, 7560 Caple Blvd\, Northwood\, OH\, 43619\, United States
CATEGORIES:PITC Training
END:VEVENT
BEGIN:VEVENT
DTSTART;TZID=UTC:20251015T110000
DTEND;TZID=UTC:20251015T123000
DTSTAMP:20260421T175412
CREATED:20250110T153605Z
LAST-MODIFIED:20250110T153605Z
UID:111259-1760526000-1760531400@mcanwo.org
SUMMARY:MCA Membership Meeting
DESCRIPTION:
URL:https://mcanwo.org/event/mca-membership-meeting-7/
LOCATION:MCA of NW Ohio
CATEGORIES:Meetings / Events
END:VEVENT
BEGIN:VEVENT
DTSTART;TZID=UTC:20251003T080000
DTEND;TZID=UTC:20251003T150000
DTSTAMP:20260421T175412
CREATED:20250110T152215Z
LAST-MODIFIED:20250806T123245Z
UID:111256-1759478400-1759503600@mcanwo.org
SUMMARY:MCA Sporting Clays Outing - SOLD OUT
DESCRIPTION:
URL:https://mcanwo.org/event/mca-sporting-clays-outing/
LOCATION:John A. Halter Shooting Center\, 4390 Bankers Road\, Hillsdale\, MI\, 49242\, United States
CATEGORIES:Meetings / Events
END:VEVENT
BEGIN:VEVENT
DTSTART;TZID=UTC:20251002T170000
DTEND;TZID=UTC:20251002T210000
DTSTAMP:20260421T175412
CREATED:20250619T124723Z
LAST-MODIFIED:20250619T140120Z
UID:111358-1759424400-1759438800@mcanwo.org
SUMMARY:Medical Gas Installer
DESCRIPTION:  \n📣 Medical Gas Installer \n📅 October 2 to December 15\, 21025\n📍 Piping Industry Training Center\n💲Cost: $350.00 \nThe Piping Industry Training Center will be hosting a Medical Gas Installer from October 2 through December 15\, 2025. \nThis is a great opportunity to get certified and stay compliant with industry requirements. \nTo register\, please contact:\nEd VanAtta\n📧 Edward@nwopitc.com \nSpace is limited—register early to secure your spot!
URL:https://mcanwo.org/event/medical-gas-installer/
LOCATION:Piping Industry Training Center\, 7560 Caple Blvd\, Northwood\, OH\, 43619\, United States
CATEGORIES:PITC Training
END:VEVENT
BEGIN:VEVENT
DTSTART;TZID=UTC:20250917T170000
DTEND;TZID=UTC:20250917T210000
DTSTAMP:20260421T175412
CREATED:20250619T123940Z
LAST-MODIFIED:20250619T123940Z
UID:111348-1758128400-1758142800@mcanwo.org
SUMMARY:Backflow Recertification
DESCRIPTION:📣 Backflow Certification Training – Recertification\n📅 September 17–24\, 2025\n📍 Piping Industry Training Center\n💲Cost: $150.00 \nThe Piping Industry Training Center will be hosting a Backflow Certification Course from September 17 through September 24\, 2025. \nThis is a great opportunity to get certified and stay compliant with industry requirements. \nTo register\, please contact:\nEd VanAtta\n📧 Edward@nwopitc.com \nSpace is limited—register early to secure your spot!
URL:https://mcanwo.org/event/backflow-recertification-7/
LOCATION:Piping Industry Training Center\, 7560 Caple Blvd\, Northwood\, OH\, 43619\, United States
CATEGORIES:PITC Training
END:VEVENT
BEGIN:VEVENT
DTSTART;TZID=UTC:20250917T160000
DTEND;TZID=UTC:20250917T173000
DTSTAMP:20260421T175412
CREATED:20250626T154455Z
LAST-MODIFIED:20250717T181106Z
UID:111382-1758124800-1758130200@mcanwo.org
SUMMARY:Apprentice/Contractor Meet & Greet
DESCRIPTION:📅 Apprentice + Contractor Meet & Greet\n🗓 Wednesday\, September 17\, 2025\n🕓 4:00 PM – 5:30 PM\n📍 MCA of Northwest Ohio – 7550 Caple Blvd. Northwood\, OH  43619 \n🌮 Taco Truck\n🎯 Cornhole\n🎁 Raffle Prizes from Milwaukee Tool\n🎉 Contractor Connections + Cool Swag! \nCome hungry. Leave connected.\nGet to know the contractors that make the MCA of NW Ohio thrive. \n👉 Must RSVP to score swag!
URL:https://mcanwo.org/event/apprentice-contractor-meet-greet/
LOCATION:MCA of NW Ohio
CATEGORIES:Meetings / Events
END:VEVENT
BEGIN:VEVENT
DTSTART;TZID=UTC:20250917T113000
DTEND;TZID=UTC:20250917T123000
DTSTAMP:20260421T175412
CREATED:20250624T180018Z
LAST-MODIFIED:20250624T180018Z
UID:111380-1758108600-1758112200@mcanwo.org
SUMMARY:Service Contractors - Membership Meeting
DESCRIPTION:Presentation:  Trane – Megan Goedde \nOCILB: One (1) hour
URL:https://mcanwo.org/event/service-contractors-membership-meeting/
LOCATION:MCA of NW Ohio
CATEGORIES:Meetings / Events
END:VEVENT
BEGIN:VEVENT
DTSTART;TZID=UTC:20250820T110000
DTEND;TZID=UTC:20250820T120000
DTSTAMP:20260421T175412
CREATED:20250110T151949Z
LAST-MODIFIED:20250110T151949Z
UID:111254-1755687600-1755691200@mcanwo.org
SUMMARY:MCA Membership Meeting
DESCRIPTION:
URL:https://mcanwo.org/event/mca-membership-meeting-6/
LOCATION:MCA of NW Ohio
CATEGORIES:Meetings / Events
END:VEVENT
BEGIN:VEVENT
DTSTART;TZID=UTC:20250813T080000
DTEND;TZID=UTC:20250813T140000
DTSTAMP:20260421T175412
CREATED:20250326T125644Z
LAST-MODIFIED:20250326T125644Z
UID:111298-1755072000-1755093600@mcanwo.org
SUMMARY:UA Industry Day
DESCRIPTION:
URL:https://mcanwo.org/event/ua-industry-day/
LOCATION:Washtenaw Community College\, 4800 E. Huron River Drive\, Ann Arbor\, MI\, 48105\, United States
CATEGORIES:Meetings / Events,Contractor Education
END:VEVENT
BEGIN:VEVENT
DTSTART;TZID=UTC:20250723T170000
DTEND;TZID=UTC:20250723T210000
DTSTAMP:20260421T175412
CREATED:20250619T123533Z
LAST-MODIFIED:20250714T191226Z
UID:111344-1753290000-1753304400@mcanwo.org
SUMMARY:ARC Flash Training - Cancelled
DESCRIPTION:⚡ ARC Flash Training Reminder \n\n\nIf you have employees in need of ARC Flash Certification\, the Piping Industry Training Center will be offering two sessions: \n\n\n📅 Wednesday\, July 23rd\n🕔 5:00 PM – 9:00 PM \n\n\nEach session is limited to 20 participants. \n\n\nTo register\, please contact Ed Van Atta at edward@nwopitc.com
URL:https://mcanwo.org/event/arc-flash-training-4/
LOCATION:Piping Industry Training Center\, 7560 Caple Blvd\, Northwood\, OH\, 43619\, United States
CATEGORIES:PITC Training
END:VEVENT
BEGIN:VEVENT
DTSTART;TZID=UTC:20250721T170000
DTEND;TZID=UTC:20250721T210000
DTSTAMP:20260421T175412
CREATED:20250619T123443Z
LAST-MODIFIED:20250714T191152Z
UID:111342-1753117200-1753131600@mcanwo.org
SUMMARY:ARC Flash Training - Cancelled
DESCRIPTION:⚡ ARC Flash Training Reminder \n\n\nIf you have employees in need of ARC Flash Certification\, the Piping Industry Training Center will be offering two sessions: \n\n\n📅 Monday\, July 21st\n📅 Wednesday\, July 23rd\n🕔 5:00 PM – 9:00 PM \n\n\nEach session is limited to 20 participants. \n\n\nTo register\, please contact Ed Van Atta at edward@nwopitc.com
URL:https://mcanwo.org/event/arc-flash-training-3/
LOCATION:Piping Industry Training Center\, 7560 Caple Blvd\, Northwood\, OH\, 43619\, United States
CATEGORIES:PITC Training
END:VEVENT
BEGIN:VEVENT
DTSTART;TZID=UTC:20250716T120000
DTEND;TZID=UTC:20250716T130000
DTSTAMP:20260421T175412
CREATED:20250110T151803Z
LAST-MODIFIED:20250110T151803Z
UID:111250-1752667200-1752670800@mcanwo.org
SUMMARY:Engineer & Contractor Ethics - Virtual
DESCRIPTION:
URL:https://mcanwo.org/event/engineer-contractor-ethics-virtual/
LOCATION:Virtual
CATEGORIES:MCA Training
END:VEVENT
BEGIN:VEVENT
DTSTART;TZID=UTC:20250618T110000
DTEND;TZID=UTC:20250618T123000
DTSTAMP:20260421T175412
CREATED:20250110T151854Z
LAST-MODIFIED:20250130T183211Z
UID:111252-1750244400-1750249800@mcanwo.org
SUMMARY:MCA Membership Meeting
DESCRIPTION:Presenter:  Todd Jensen\, Toledo OSHA
URL:https://mcanwo.org/event/mca-membership-meeting-5/
LOCATION:MCA of NW Ohio
CATEGORIES:Meetings / Events
END:VEVENT
BEGIN:VEVENT
DTSTART;TZID=UTC:20250616T150000
DTEND;TZID=UTC:20250616T170000
DTSTAMP:20260421T175412
CREATED:20240829T164825Z
LAST-MODIFIED:20240829T164825Z
UID:111213-1750086000-1750093200@mcanwo.org
SUMMARY:2025 WIMI Conference
DESCRIPTION:Description:\nThe annual WiMI conference will feature exceptional speakers\, interactive educational sessions\, industry related roundtables and opportunities to build lasting relationships with fellow women in the mechanical industry. A full menu of educational offerings will help you discover all the opportunities this industry has to offer. From industry newcomers to executives\, and everyone in between\, this is the event to attend for all women in the mechanical contracting industry. \n\n\nSuggested Attendees:\nAll women in the mechanical industry \nHotel Information:\nLoews Kansas City Hotel 1515 Wyandotte St\, Kansas City\, MO 64108
URL:https://mcanwo.org/event/2025-wimi-conference/
LOCATION:Loews Kansas City Hotel\, 1515 Wyandotte Street\, Kansas City\, MO\, 64108\, United States
CATEGORIES:Meetings / Events
END:VEVENT
BEGIN:VEVENT
DTSTART;TZID=UTC:20250516T080000
DTEND;TZID=UTC:20250516T160000
DTSTAMP:20260421T175412
CREATED:20241202T201904Z
LAST-MODIFIED:20250224T201601Z
UID:111229-1747382400-1747411200@mcanwo.org
SUMMARY:MCA Golf Outing - SOLD OUT
DESCRIPTION:
URL:https://mcanwo.org/event/mca-golf-outing-3/
LOCATION:Belmont County Club\, 29601 Bates Road\, Perrysburg\, OH\, 43551\, United States
CATEGORIES:Meetings / Events
END:VEVENT
BEGIN:VEVENT
DTSTART;TZID=UTC:20250514T113000
DTEND;TZID=UTC:20250514T123000
DTSTAMP:20260421T175412
CREATED:20250326T121047Z
LAST-MODIFIED:20250326T121047Z
UID:111296-1747222200-1747225800@mcanwo.org
SUMMARY:MCA Service Contractor Meeting
DESCRIPTION:Please join us for the upcoming MCA Service Contractors Luncheon on Wednesday\, May 14\, 2025. This important meeting will focus on industry updates\, planning\, and a discussion of how MCA can better support your business.\nWe strongly encourage you to invite your Service Manager to attend as well. Their input is essential to shaping future programs and services.\nLuncheon Details:\n📅 Date: Wednesday\, May 14\, 2025\n🕛 Time: 11:30am – 12:30pm\n🍽️ Lunch will be provided – Please RSVP by May 7th to help us plan accordingly.\n📍 Location: MCA of NW Ohio\nAgenda:\n\nIntroduction of Bobbie Strayer\, newly elected MCA President\nUpdate from Matt Earl\, MSCA/UA National Committee Member\n2025 MSCA Annual Education Conference\n📅 November 9–12\, 2025 📍 Location: Scottsdale\, Arizona\nSchedule A Review and Need for Update\n\nAttached is a copy of the Schedule A Agreement\, which expired in 2017. As industry continues to evolve\, it’s critical that this document reflects current needs\, practices\, and realities in the field.\nWe are asking for your thoughtful input on the following:\n\n\n\nWhat elements of the current Schedule A still serve the industry well?\nWhich provisions are outdated or no longer practical?\nWhat areas require revision or expansion to better align with how service work is delivered today?\n\n\nManpower Planning and Challenges\nTraining Opportunities & Resources\nOpen Discussion: What Additional Services Do You Need?
URL:https://mcanwo.org/event/mca-service-contractor-meeting/
LOCATION:MCA of NW Ohio
CATEGORIES:Meetings / Events
END:VEVENT
BEGIN:VEVENT
DTSTART;TZID=UTC:20250513T120000
DTEND;TZID=UTC:20250513T130000
DTSTAMP:20260421T175412
CREATED:20250225T142200Z
LAST-MODIFIED:20250225T142200Z
UID:111294-1747137600-1747141200@mcanwo.org
SUMMARY:Virtual Education - NSA CCC-DIB Cybersecurity Services:  Strengthening SMB Defenses
DESCRIPTION:Webinar – NSA CCC-DIB Cybersecurity Services: Strengthening SMB Defenses \n Live Virtual Course Via Zoom \nTuesday\, May 13 (12:00 PM – 1:00 PM)  \nMalicious actors continually attempt to disrupt company networks by exploiting passive DNS (PDNS) data or discovering unknown vulnerabilities. While large Defense Industrial Base (DIB) companies\, such as prime contractors\, can protect themselves with robust cybersecurity programs\, small to medium-sized businesses (SMBs) in the DIB often lack the resources to implement and maintain such comprehensive defenses. \nThe Defense Industrial Base faces constant cyber threats\, with SMBs particularly vulnerable due to limited resources. To address this\, the NSA Cybersecurity Collaboration Center offers free\, enhanced services to DoD contractors: \n1. Passive DNS monitoring\n2. Attack surface management\n3. Real-time threat intelligence \nThis initiative strengthens the entire DIB’s cybersecurity posture\, bridging the gap between prime contractors and SMBs. \n Instructor \nSamantha Anim is currently the Campaign Manager at the National Security Agency\, Cybersecurity Collaboration Center. In this role\, she is responsible for increasing partnership participation and enrollment into NSA provided no-cost cybersecurity services for Defense Industrial Base (DIB) companies to help them defend against Nation-state and other cyber actors. \nPrior Agency experience includes Chief Operating Officer of Threats to National Security Systems and Technologies. In this roll she would oversee daily tasks and ensure support was being provided. She also served as a Special Agent in Security and Counterintelligence. \nOffered through MCAA Affiliate Alliance
URL:https://mcanwo.org/event/virtual-education-nsa-ccc-dib-cybersecurity-services-strengthening-smb-defenses/
LOCATION:Virtual
CATEGORIES:Contractor Education
END:VEVENT
BEGIN:VEVENT
DTSTART;TZID=UTC:20250423T170000
DTEND;TZID=UTC:20250423T210000
DTSTAMP:20260421T175412
CREATED:20240815T183038Z
LAST-MODIFIED:20240815T183038Z
UID:111192-1745427600-1745442000@mcanwo.org
SUMMARY:HVAC/R Star Recertification - Journeyman Class (PITC)
DESCRIPTION:Please contact the Piping Industry Training Center at 419-666-7482 to schedule.
URL:https://mcanwo.org/event/hvac-r-star-recertification-journeyman-class-pitc/
LOCATION:Piping Industry Training Center\, 7560 Caple Blvd\, Northwood\, OH\, 43619\, United States
CATEGORIES:PITC Training
END:VEVENT
BEGIN:VEVENT
DTSTART;TZID=UTC:20250423T170000
DTEND;TZID=UTC:20250423T210000
DTSTAMP:20260421T175412
CREATED:20240815T182303Z
LAST-MODIFIED:20240815T182303Z
UID:111176-1745427600-1745442000@mcanwo.org
SUMMARY:Medical Gas Recertification - Journeyman Class (PITC)
DESCRIPTION:Please contact the Piping Industry Training Center at 419-666-7482 to schedule.
URL:https://mcanwo.org/event/medical-gas-recertification-journeyman-class-pitc-4/
LOCATION:Piping Industry Training Center\, 7560 Caple Blvd\, Northwood\, OH\, 43619\, United States
CATEGORIES:PITC Training
END:VEVENT
BEGIN:VEVENT
DTSTART;TZID=UTC:20250423T110000
DTEND;TZID=UTC:20250423T123000
DTSTAMP:20260421T175412
CREATED:20250130T145210Z
LAST-MODIFIED:20250130T145210Z
UID:111277-1745406000-1745411400@mcanwo.org
SUMMARY:Virtual Education - Performance Based Incentive Compensation
DESCRIPTION:Performance Based Incentive Compensation \nPresented by:  MCA Kansas City \nPresenter:  Stephane McShane \n84% of organizations offer some form of reward programs to employees. A well-designed compensation plan rewards both individual and group performance\, is connected to the performance management system\, and incentivize certain behaviors. Developing internal processes is critical to an effective incentive compensation system. \nLearning Objectives: \nUnderstand the importance of defined standards and processes\nIdentify how to utilize the right tools to drive desired outcomes\nMeasure performance with objective metrics\nEstablish KRA-based job descriptions \n  \nOCILB:  1.5 \nOffered through MCAA Virtual Alliance Group
URL:https://mcanwo.org/event/virtual-education-performance-based-incentive-compensation/
LOCATION:Virtual
CATEGORIES:Contractor Education
END:VEVENT
BEGIN:VEVENT
DTSTART;TZID=UTC:20250416T170000
DTEND;TZID=UTC:20250416T210000
DTSTAMP:20260421T175412
CREATED:20240815T182847Z
LAST-MODIFIED:20240815T182847Z
UID:111188-1744822800-1744837200@mcanwo.org
SUMMARY:Backflow Recertification - Journeyman Class (PITC)
DESCRIPTION:Please contact the Piping Industry Training Center at 419-666-7482 to schedule.
URL:https://mcanwo.org/event/backflow-recertification-journeyman-class-pitc-4/
LOCATION:Piping Industry Training Center\, 7560 Caple Blvd\, Northwood\, OH\, 43619\, United States
CATEGORIES:PITC Training
END:VEVENT
BEGIN:VEVENT
DTSTART;TZID=UTC:20250416T110000
DTEND;TZID=UTC:20250416T123000
DTSTAMP:20260421T175412
CREATED:20241202T201057Z
LAST-MODIFIED:20250224T201637Z
UID:111227-1744801200-1744806600@mcanwo.org
SUMMARY:MCA Membership Meeting
DESCRIPTION:Leveraging AI for Success \nPresenter:  Dustin Dale \n 
URL:https://mcanwo.org/event/mca-membership-meeting-4/
LOCATION:Piping Industry Training Center\, 7560 Caple Blvd\, Northwood\, OH\, 43619\, United States
CATEGORIES:Meetings / Events
END:VEVENT
BEGIN:VEVENT
DTSTART;TZID=UTC:20250403T170000
DTEND;TZID=UTC:20250403T210000
DTSTAMP:20260421T175412
CREATED:20240815T183143Z
LAST-MODIFIED:20240815T183143Z
UID:111194-1743699600-1743714000@mcanwo.org
SUMMARY:Valve Repair Recertification - Journeyman Class (PITC)
DESCRIPTION:Please contact the Piping Industry Training Center at 419-666-7482 to schedule.
URL:https://mcanwo.org/event/valve-repair-recertification-journeyman-class-pitc/
LOCATION:Piping Industry Training Center\, 7560 Caple Blvd\, Northwood\, OH\, 43619\, United States
CATEGORIES:PITC Training
END:VEVENT
BEGIN:VEVENT
DTSTART;TZID=UTC:20250325T170000
DTEND;TZID=UTC:20250325T210000
DTSTAMP:20260421T175412
CREATED:20240815T182555Z
LAST-MODIFIED:20240815T182555Z
UID:111182-1742922000-1742936400@mcanwo.org
SUMMARY:Rigging Recertification - Journeyman Class (PITC)
DESCRIPTION:Please contact the Piping Industry Training Center at 419-666-7482 to schedule.
URL:https://mcanwo.org/event/rigging-recertification-journeyman-class-pitc-4/
LOCATION:Piping Industry Training Center\, 7560 Caple Blvd\, Northwood\, OH\, 43619\, United States
CATEGORIES:PITC Training
END:VEVENT
BEGIN:VEVENT
DTSTART;TZID=UTC:20250321T110000
DTEND;TZID=UTC:20250321T120000
DTSTAMP:20260421T175412
CREATED:20250225T141808Z
LAST-MODIFIED:20250225T141808Z
UID:111292-1742554800-1742558400@mcanwo.org
SUMMARY:Virtual Education - NCPWB Update with Ron King
DESCRIPTION:National Certified Pipe Welding Bureau (NCPWB) \nJoin Ron King for a brief overview of the National Certified Pipe Welding Bureau (NCPWB) and how it simplifies welding and brazing qualification practices. Learn how NCPWB’s standardized procedures\, compliance support\, cost-saving benefits\, and national database help contractors improve efficiency\, safety\, and quality. Don’t miss this opportunity to enhance your welding operations! \nAbout the Speaker: \nRon King – Joined MCAA National Office in April 2024 as Executive Director\, NCPWB & WebLEM responsible for welding procedures\, welder qualification tracking and labor units for the association. Prior to MCAA\, he was employed for 17 years by Trimble MEP as Director of Industry Relations and Business Development. Prior to joining Trimble\, he was employed for 17 years by GEM INC\, a multi-trade contractor in Northwest Ohio\, providing a broad range of industrial construction services. He also participates on the Pipe Fabrication Institute (PFI) Engineering Committee and various ELECTRI International Task forces. \nProgram hosted by MCAA Affiliate Alliance \nLocation\nZOOM
URL:https://mcanwo.org/event/virtual-education-ncpwb-update-with-ron-king/
LOCATION:Virtual
CATEGORIES:Contractor Education
END:VEVENT
BEGIN:VEVENT
DTSTART;TZID=UTC:20250317T170000
DTEND;TZID=UTC:20250317T210000
DTSTAMP:20260421T175412
CREATED:20240815T182650Z
LAST-MODIFIED:20240815T182650Z
UID:111184-1742230800-1742245200@mcanwo.org
SUMMARY:Rigging Certification - Journeyman Class (PITC)
DESCRIPTION:Please contact the Piping Industry Training Center at 419-666-7482 to schedule.
URL:https://mcanwo.org/event/rigging-certification-journeyman-class-pitc/
LOCATION:Piping Industry Training Center\, 7560 Caple Blvd\, Northwood\, OH\, 43619\, United States
CATEGORIES:PITC Training
END:VEVENT
BEGIN:VEVENT
DTSTART;TZID=UTC:20250317T170000
DTEND;TZID=UTC:20250317T210000
DTSTAMP:20260421T175412
CREATED:20240815T182403Z
LAST-MODIFIED:20240815T182403Z
UID:111178-1742230800-1742245200@mcanwo.org
SUMMARY:Medical Gas Installation - Journeyman Class (PITC)
DESCRIPTION:Please contact the Piping Industry Training Center at 419-666-7482 to schedule.
URL:https://mcanwo.org/event/medical-gas-installation-journeyman-class-pitc/
LOCATION:Piping Industry Training Center\, 7560 Caple Blvd\, Northwood\, OH\, 43619\, United States
CATEGORIES:PITC Training
END:VEVENT
BEGIN:VEVENT
DTSTART;TZID=UTC:20250302T180000
DTEND;TZID=UTC:20250302T210000
DTSTAMP:20260421T175412
CREATED:20240718T141901Z
LAST-MODIFIED:20240718T141901Z
UID:111123-1740938400-1740949200@mcanwo.org
SUMMARY:MCAA National Convention - Toledo Night
DESCRIPTION:
URL:https://mcanwo.org/event/mcaa-national-convention-toledo-night/
LOCATION:The Salt Lick\, 18300 FM 1826\, Driftwood\, TX\, 78619\, United States
CATEGORIES:Meetings / Events
END:VEVENT
BEGIN:VEVENT
DTSTART;TZID=UTC:20250224T170000
DTEND;TZID=UTC:20250224T210000
DTSTAMP:20260421T175412
CREATED:20240815T182152Z
LAST-MODIFIED:20240815T182152Z
UID:111174-1740416400-1740430800@mcanwo.org
SUMMARY:Medical Gas Recertification - Journeyman Class (PITC)
DESCRIPTION:Please contact the Piping Industry Training Center at 419-666-7482 to schedule.
URL:https://mcanwo.org/event/medical-gas-recertification-journeyman-class-pitc-3/
LOCATION:Piping Industry Training Center\, 7560 Caple Blvd\, Northwood\, OH\, 43619\, United States
CATEGORIES:PITC Training
END:VEVENT
BEGIN:VEVENT
DTSTART;TZID=UTC:20250219T113000
DTEND;TZID=UTC:20250219T123000
DTSTAMP:20260421T175412
CREATED:20241202T200902Z
LAST-MODIFIED:20250110T151523Z
UID:111225-1739964600-1739968200@mcanwo.org
SUMMARY:MCA Annual Membership Meeting
DESCRIPTION:
URL:https://mcanwo.org/event/mca-annual-membership-meeting/
LOCATION:Rosaria’s on Third Street\, 135 W 3rd St\, Perrysburg\, OH\, 43551\, United States
CATEGORIES:Meetings / Events
END:VEVENT
END:VCALENDAR