BEGIN:VCALENDAR
VERSION:2.0
PRODID:-//MCANWO - ECPv6.15.17.1//NONSGML v1.0//EN
CALSCALE:GREGORIAN
METHOD:PUBLISH
X-WR-CALNAME:MCANWO
X-ORIGINAL-URL:https://mcanwo.org
X-WR-CALDESC:Events for MCANWO
REFRESH-INTERVAL;VALUE=DURATION:PT1H
X-Robots-Tag:noindex
X-PUBLISHED-TTL:PT1H
BEGIN:VTIMEZONE
TZID:UTC
BEGIN:STANDARD
TZOFFSETFROM:+0000
TZOFFSETTO:+0000
TZNAME:UTC
DTSTART:20210101T000000
END:STANDARD
END:VTIMEZONE
BEGIN:VEVENT
DTSTART;TZID=UTC:20221114T163000
DTEND;TZID=UTC:20221114T203000
DTSTAMP:20260424T002525
CREATED:20221004T150451Z
LAST-MODIFIED:20221028T202153Z
UID:110110-1668443400-1668457800@mcanwo.org
SUMMARY:CPR
DESCRIPTION:[vc_row][vc_column column_width_percent=”100″ position_horizontal=”left” gutter_size=”3″ overlay_alpha=”50″ shift_x=”0″ shift_y=”0″ shift_y_down=”0″ z_index=”0″ medium_width=”0″ mobile_width=”0″ width=”1/3″ uncode_shortcode_id=”134311″][vc_single_image media=”110206″ media_width_percent=”100″ uncode_shortcode_id=”117108″][vc_button button_color=”accent” wide=”yes” border_width=”0″ icon_position=”right” scale_mobile=”no” icon=”fa fa-arrow-right2″ uncode_shortcode_id=”202864″ link=”url:%23|target:_blank” button_color_type=”uncode-palette”]Register Now[/vc_button][/vc_column][vc_column width=”1/3″][/vc_column][vc_column width=”1/3″][/vc_column][/vc_row]
URL:https://mcanwo.org/event/cpr/
LOCATION:MCA of NW Ohio
CATEGORIES:2022 Safety Courses
END:VEVENT
BEGIN:VEVENT
DTSTART;TZID=UTC:20221109T163000
DTEND;TZID=UTC:20221109T183000
DTSTAMP:20260424T002525
CREATED:20221004T145931Z
LAST-MODIFIED:20221028T202039Z
UID:110100-1668011400-1668018600@mcanwo.org
SUMMARY:Drug Free Workplace Employee/Supervisor Class
DESCRIPTION:[vc_row][vc_column column_width_percent=”100″ position_horizontal=”left” gutter_size=”3″ overlay_alpha=”50″ shift_x=”0″ shift_y=”0″ shift_y_down=”0″ z_index=”0″ medium_width=”0″ mobile_width=”0″ width=”1/3″ uncode_shortcode_id=”134311″][vc_single_image media=”110206″ media_width_percent=”100″ uncode_shortcode_id=”117108″][vc_button button_color=”accent” wide=”yes” border_width=”0″ icon_position=”right” scale_mobile=”no” icon=”fa fa-arrow-right2″ uncode_shortcode_id=”202864″ link=”url:%23|target:_blank” button_color_type=”uncode-palette”]Register Now[/vc_button][/vc_column][vc_column width=”1/3″][/vc_column][vc_column width=”1/3″][/vc_column][/vc_row]
URL:https://mcanwo.org/event/drug-free-workplace-2/
LOCATION:MCA of NW Ohio
END:VEVENT
BEGIN:VEVENT
DTSTART;TZID=UTC:20221019T163000
DTEND;TZID=UTC:20221019T203000
DTSTAMP:20260424T002525
CREATED:20221004T150203Z
LAST-MODIFIED:20221028T201821Z
UID:110104-1666197000-1666211400@mcanwo.org
SUMMARY:OSHA 4 Refresher
DESCRIPTION:[vc_row][vc_column column_width_percent=”100″ position_horizontal=”left” gutter_size=”3″ overlay_alpha=”50″ shift_x=”0″ shift_y=”0″ shift_y_down=”0″ z_index=”0″ medium_width=”0″ mobile_width=”0″ width=”1/3″ uncode_shortcode_id=”134311″][vc_single_image media=”110206″ media_width_percent=”100″ uncode_shortcode_id=”117108″][vc_button button_color=”accent” wide=”yes” border_width=”0″ icon_position=”right” scale_mobile=”no” icon=”fa fa-arrow-right2″ uncode_shortcode_id=”202864″ link=”url:%23|target:_blank” button_color_type=”uncode-palette”]Register Now[/vc_button][/vc_column][vc_column width=”1/3″][/vc_column][vc_column width=”1/3″][/vc_column][/vc_row]
URL:https://mcanwo.org/event/occupational-safety-and-health-administration-4/
LOCATION:MCA of NW Ohio
CATEGORIES:2022 Safety Courses
END:VEVENT
BEGIN:VEVENT
DTSTART;TZID=UTC:20221011T163000
DTEND;TZID=UTC:20221011T183000
DTSTAMP:20260424T002525
CREATED:20221004T145801Z
LAST-MODIFIED:20221028T202033Z
UID:110098-1665505800-1665513000@mcanwo.org
SUMMARY:Drug Free Workplace Employee/Supervisor Class
DESCRIPTION:[vc_row][vc_column column_width_percent=”100″ position_horizontal=”left” gutter_size=”3″ overlay_alpha=”50″ shift_x=”0″ shift_y=”0″ shift_y_down=”0″ z_index=”0″ medium_width=”0″ mobile_width=”0″ width=”1/3″ uncode_shortcode_id=”134311″][vc_single_image media=”110206″ media_width_percent=”100″ uncode_shortcode_id=”117108″][vc_button button_color=”accent” wide=”yes” border_width=”0″ icon_position=”right” scale_mobile=”no” icon=”fa fa-arrow-right2″ uncode_shortcode_id=”202864″ link=”url:%23|target:_blank” button_color_type=”uncode-palette”]Register Now[/vc_button][/vc_column][vc_column width=”1/3″][/vc_column][vc_column width=”1/3″][/vc_column][/vc_row]
URL:https://mcanwo.org/event/drug-free-workplace/
LOCATION:MCA of NW Ohio
CATEGORIES:2022 Safety Courses
END:VEVENT
BEGIN:VEVENT
DTSTART;TZID=UTC:20220817T113000
DTEND;TZID=UTC:20220817T130000
DTSTAMP:20260424T002525
CREATED:20220705T204824Z
LAST-MODIFIED:20221007T190303Z
UID:109535-1660735800-1660741200@mcanwo.org
SUMMARY:MCA Membership Meeting
DESCRIPTION:[vc_row][vc_column column_width_percent=”100″ position_horizontal=”left” gutter_size=”3″ overlay_alpha=”50″ shift_x=”0″ shift_y=”0″ shift_y_down=”0″ z_index=”0″ medium_width=”0″ mobile_width=”0″ width=”1/3″ uncode_shortcode_id=”134311″][vc_button button_color=”accent” wide=”yes” border_width=”0″ icon_position=”right” scale_mobile=”no” icon=”fa fa-arrow-right2″ uncode_shortcode_id=”647791″ link=”url:%23|target:_blank” button_color_type=”uncode-palette”]Register Now[/vc_button][/vc_column][vc_column width=”1/3″][/vc_column][vc_column width=”1/3″][/vc_column][/vc_row]
URL:https://mcanwo.org/event/mca-membership-meeting/
CATEGORIES:Meetings / Events
ATTACH;FMTTYPE=image/jpeg:https://mcanwo.org/wp-content/uploads/2022/06/shutterstock_1805842198.jpg
END:VEVENT
BEGIN:VEVENT
DTSTART;TZID=UTC:20220720T113000
DTEND;TZID=UTC:20220720T130000
DTSTAMP:20260424T002525
CREATED:20220624T185023Z
LAST-MODIFIED:20221007T190435Z
UID:109419-1658316600-1658322000@mcanwo.org
SUMMARY:MCA Executive BOD Meeting
DESCRIPTION:[vc_row][vc_column column_width_percent=”100″ position_horizontal=”left” gutter_size=”3″ overlay_alpha=”50″ shift_x=”0″ shift_y=”0″ shift_y_down=”0″ z_index=”0″ medium_width=”0″ mobile_width=”0″ width=”1/3″ uncode_shortcode_id=”134311″][vc_button button_color=”accent” wide=”yes” border_width=”0″ icon_position=”right” scale_mobile=”no” icon=”fa fa-arrow-right2″ uncode_shortcode_id=”647791″ link=”url:%23|target:_blank” button_color_type=”uncode-palette”]Register Now[/vc_button][/vc_column][vc_column width=”1/3″][/vc_column][vc_column width=”1/3″][/vc_column][/vc_row]
URL:https://mcanwo.org/event/mca-executive-bod-meeting/
CATEGORIES:Meetings / Events
ATTACH;FMTTYPE=image/jpeg:https://mcanwo.org/wp-content/uploads/2022/06/shutterstock_1529073962.jpg
END:VEVENT
END:VCALENDAR