BEGIN:VCALENDAR
VERSION:2.0
PRODID:-//MCANWO - ECPv6.15.17.1//NONSGML v1.0//EN
CALSCALE:GREGORIAN
METHOD:PUBLISH
X-ORIGINAL-URL:https://mcanwo.org
X-WR-CALDESC:Events for MCANWO
REFRESH-INTERVAL;VALUE=DURATION:PT1H
X-Robots-Tag:noindex
X-PUBLISHED-TTL:PT1H
BEGIN:VTIMEZONE
TZID:UTC
BEGIN:STANDARD
TZOFFSETFROM:+0000
TZOFFSETTO:+0000
TZNAME:UTC
DTSTART:20210101T000000
END:STANDARD
END:VTIMEZONE
BEGIN:VTIMEZONE
TZID:America/New_York
BEGIN:DAYLIGHT
TZOFFSETFROM:-0500
TZOFFSETTO:-0400
TZNAME:EDT
DTSTART:20220313T070000
END:DAYLIGHT
BEGIN:STANDARD
TZOFFSETFROM:-0400
TZOFFSETTO:-0500
TZNAME:EST
DTSTART:20221106T060000
END:STANDARD
BEGIN:DAYLIGHT
TZOFFSETFROM:-0500
TZOFFSETTO:-0400
TZNAME:EDT
DTSTART:20230312T070000
END:DAYLIGHT
BEGIN:STANDARD
TZOFFSETFROM:-0400
TZOFFSETTO:-0500
TZNAME:EST
DTSTART:20231105T060000
END:STANDARD
BEGIN:DAYLIGHT
TZOFFSETFROM:-0500
TZOFFSETTO:-0400
TZNAME:EDT
DTSTART:20240310T070000
END:DAYLIGHT
BEGIN:STANDARD
TZOFFSETFROM:-0400
TZOFFSETTO:-0500
TZNAME:EST
DTSTART:20241103T060000
END:STANDARD
END:VTIMEZONE
BEGIN:VEVENT
DTSTART;TZID=UTC:20230124T170000
DTEND;TZID=UTC:20230124T210000
DTSTAMP:20260423T213551
CREATED:20221229T173802Z
LAST-MODIFIED:20221229T173802Z
UID:110411-1674579600-1674594000@mcanwo.org
SUMMARY:Backflow Certification
DESCRIPTION:Class starts January 24th and runs through February 23rd. \nPlease contact Joanna Seeger at 419-666-7482 to schedule training and for additional information. \n 
URL:https://mcanwo.org/event/backflow-certification/
LOCATION:Piping Industry Training Center\, 7560 Caple Blvd\, Northwood\, OH\, 43619\, United States
CATEGORIES:PITC Training
END:VEVENT
BEGIN:VEVENT
DTSTART;TZID=UTC:20230123T163000
DTEND;TZID=UTC:20230123T203000
DTSTAMP:20260423T213551
CREATED:20221031T131112Z
LAST-MODIFIED:20221031T131502Z
UID:110242-1674491400-1674505800@mcanwo.org
SUMMARY:OSHA 4 Refresher
DESCRIPTION:[vc_row][vc_column column_width_percent=”100″ position_horizontal=”left” gutter_size=”3″ overlay_alpha=”50″ shift_x=”0″ shift_y=”0″ shift_y_down=”0″ z_index=”0″ medium_width=”0″ mobile_width=”0″ width=”1/3″ uncode_shortcode_id=”134311″][vc_single_image media=”110206″ media_width_percent=”100″ uncode_shortcode_id=”117108″][vc_button button_color=”accent” wide=”yes” border_width=”0″ icon_position=”right” scale_mobile=”no” icon=”fa fa-arrow-right2″ uncode_shortcode_id=”202864″ link=”url:%23|target:_blank” button_color_type=”uncode-palette”]Register Now[/vc_button][/vc_column][vc_column width=”1/3″][/vc_column][vc_column width=”1/3″][/vc_column][/vc_row]
URL:https://mcanwo.org/event/osha-4-refresher/
LOCATION:MCA of NW Ohio
CATEGORIES:2023 Safety Courses
END:VEVENT
BEGIN:VEVENT
DTSTART;TZID=UTC:20230119T113000
DTEND;TZID=UTC:20230119T130000
DTSTAMP:20260423T213551
CREATED:20221220T174154Z
LAST-MODIFIED:20221227T204521Z
UID:110295-1674127800-1674133200@mcanwo.org
SUMMARY:January Membership Meeting
DESCRIPTION:January Membership Meeting
URL:https://mcanwo.org/event/january-membership-meeting/
LOCATION:MCA of NW Ohio
CATEGORIES:Meetings / Events
END:VEVENT
BEGIN:VEVENT
DTSTART;TZID=UTC:20230119T103000
DTEND;TZID=UTC:20230119T113000
DTSTAMP:20260423T213551
CREATED:20221220T181915Z
LAST-MODIFIED:20221220T181915Z
UID:110299-1674124200-1674127800@mcanwo.org
SUMMARY:January Executive BOD Meeting
DESCRIPTION:
URL:https://mcanwo.org/event/january-executive-bod-meeting/
LOCATION:MCA of NW Ohio
CATEGORIES:Meetings / Events
END:VEVENT
BEGIN:VEVENT
DTSTART;TZID=UTC:20230116T080000
DTEND;TZID=UTC:20230116T170000
DTSTAMP:20260423T213551
CREATED:20221229T175535Z
LAST-MODIFIED:20221229T175535Z
UID:110421-1673856000-1673888400@mcanwo.org
SUMMARY:Rigging Re-Certification
DESCRIPTION:Class is scheduled for January 16th\, 23rd and January 30th. \nPlease contact Joanna Seeger at 419-666-7482 for additional information and to schedule training.
URL:https://mcanwo.org/event/rigging-re-certification/
LOCATION:Piping Industry Training Center\, 7560 Caple Blvd\, Northwood\, OH\, 43619\, United States
CATEGORIES:PITC Training
END:VEVENT
BEGIN:VEVENT
DTSTART;TZID=UTC:20230110T120000
DTEND;TZID=UTC:20230110T130000
DTSTAMP:20260423T213551
CREATED:20221221T150747Z
LAST-MODIFIED:20221221T150747Z
UID:110314-1673352000-1673355600@mcanwo.org
SUMMARY:NCPWB Chapter 24 Meeting
DESCRIPTION:
URL:https://mcanwo.org/event/ncpwb-chapter-24-meeting/
LOCATION:MCA of NW Ohio
CATEGORIES:Meetings / Events
END:VEVENT
BEGIN:VEVENT
DTSTART;TZID=America/New_York:20230110T043000
DTEND;TZID=America/New_York:20230110T183000
DTSTAMP:20260423T213551
CREATED:20220824T143820Z
LAST-MODIFIED:20221028T201333Z
UID:109731-1673325000-1673375400@mcanwo.org
SUMMARY:Drug Free Workplace Employee/Supervisor Class
DESCRIPTION:[vc_row][vc_column column_width_percent=”100″ position_horizontal=”left” gutter_size=”3″ overlay_alpha=”50″ shift_x=”0″ shift_y=”0″ shift_y_down=”0″ z_index=”0″ medium_width=”0″ mobile_width=”0″ width=”1/3″ uncode_shortcode_id=”134311″][vc_single_image media=”110206″ media_width_percent=”100″ uncode_shortcode_id=”117108″][vc_button button_color=”accent” wide=”yes” border_width=”0″ icon_position=”right” scale_mobile=”no” icon=”fa fa-arrow-right2″ uncode_shortcode_id=”202864″ link=”url:%23|target:_blank” button_color_type=”uncode-palette”]Register Now[/vc_button][/vc_column][vc_column width=”1/3″][/vc_column][vc_column width=”1/3″][/vc_column][/vc_row]
URL:https://mcanwo.org/event/dfwp/
LOCATION:MCA of NW Ohio
CATEGORIES:2023 Safety Courses
END:VEVENT
BEGIN:VEVENT
DTSTART;TZID=UTC:20230109T170000
DTEND;TZID=UTC:20230109T210000
DTSTAMP:20260423T213551
CREATED:20221229T174531Z
LAST-MODIFIED:20221229T174531Z
UID:110413-1673283600-1673298000@mcanwo.org
SUMMARY:Backflow Re-Certification
DESCRIPTION:Class is scheduled for January 9th and January 10th. \nPlease contact Joanna Seeger at 419-666-7482 for additional information and to schedule training.
URL:https://mcanwo.org/event/backflow-re-certification/
LOCATION:Piping Industry Training Center\, 7560 Caple Blvd\, Northwood\, OH\, 43619\, United States
CATEGORIES:PITC Training
END:VEVENT
BEGIN:VEVENT
DTSTART;TZID=UTC:20230105T170000
DTEND;TZID=UTC:20230105T210000
DTSTAMP:20260423T213551
CREATED:20221229T174936Z
LAST-MODIFIED:20221229T174936Z
UID:110417-1672938000-1672952400@mcanwo.org
SUMMARY:Med Gas Re-Certification
DESCRIPTION:Class is scheduled for January 5th and January 12th. \nPlease contact Joanna Seeger at 419-666-7482 for additional information and to schedule training.
URL:https://mcanwo.org/event/med-gas-re-certification/
LOCATION:Piping Industry Training Center\, 7560 Caple Blvd\, Northwood\, OH\, 43619\, United States
CATEGORIES:PITC Training
END:VEVENT
BEGIN:VEVENT
DTSTART;TZID=UTC:20221212T163000
DTEND;TZID=UTC:20221212T183000
DTSTAMP:20260423T213551
CREATED:20221004T150011Z
LAST-MODIFIED:20221028T201404Z
UID:110102-1670862600-1670869800@mcanwo.org
SUMMARY:Drug Free Workplace Employee/Supervisor Class
DESCRIPTION:[vc_row][vc_column column_width_percent=”100″ position_horizontal=”left” gutter_size=”3″ overlay_alpha=”50″ shift_x=”0″ shift_y=”0″ shift_y_down=”0″ z_index=”0″ medium_width=”0″ mobile_width=”0″ width=”1/3″ uncode_shortcode_id=”134311″][vc_single_image media=”110206″ media_width_percent=”100″ uncode_shortcode_id=”117108″][vc_button button_color=”accent” wide=”yes” border_width=”0″ icon_position=”right” scale_mobile=”no” icon=”fa fa-arrow-right2″ uncode_shortcode_id=”202864″ link=”url:%23|target:_blank” button_color_type=”uncode-palette”]Register Now[/vc_button][/vc_column][vc_column width=”1/3″][/vc_column][vc_column width=”1/3″][/vc_column][/vc_row]
URL:https://mcanwo.org/event/drug-free-work-place/
LOCATION:MCA of NW Ohio
END:VEVENT
BEGIN:VEVENT
DTSTART;TZID=UTC:20221205T163000
DTEND;TZID=UTC:20221205T203000
DTSTAMP:20260423T213551
CREATED:20221004T150328Z
LAST-MODIFIED:20221028T201751Z
UID:110108-1670257800-1670272200@mcanwo.org
SUMMARY:OSHA 4 Refresher
DESCRIPTION:[vc_row][vc_column column_width_percent=”100″ position_horizontal=”left” gutter_size=”3″ overlay_alpha=”50″ shift_x=”0″ shift_y=”0″ shift_y_down=”0″ z_index=”0″ medium_width=”0″ mobile_width=”0″ width=”1/3″ uncode_shortcode_id=”134311″][vc_single_image media=”110206″ media_width_percent=”100″ uncode_shortcode_id=”117108″][vc_button button_color=”accent” wide=”yes” border_width=”0″ icon_position=”right” scale_mobile=”no” icon=”fa fa-arrow-right2″ uncode_shortcode_id=”202864″ link=”url:%23|target:_blank” button_color_type=”uncode-palette”]Register Now[/vc_button][/vc_column][vc_column width=”1/3″][/vc_column][vc_column width=”1/3″][/vc_column][/vc_row]
URL:https://mcanwo.org/event/occupational-safety-and-health-administration-4-3/
LOCATION:MCA of NW Ohio
CATEGORIES:2022 Safety Courses
END:VEVENT
BEGIN:VEVENT
DTSTART;TZID=UTC:20221115T163000
DTEND;TZID=UTC:20221115T203000
DTSTAMP:20260423T213551
CREATED:20221004T150301Z
LAST-MODIFIED:20221028T201805Z
UID:110106-1668529800-1668544200@mcanwo.org
SUMMARY:OSHA 4 Refresher
DESCRIPTION:[vc_row][vc_column column_width_percent=”100″ position_horizontal=”left” gutter_size=”3″ overlay_alpha=”50″ shift_x=”0″ shift_y=”0″ shift_y_down=”0″ z_index=”0″ medium_width=”0″ mobile_width=”0″ width=”1/3″ uncode_shortcode_id=”134311″][vc_single_image media=”110206″ media_width_percent=”100″ uncode_shortcode_id=”117108″][vc_button button_color=”accent” wide=”yes” border_width=”0″ icon_position=”right” scale_mobile=”no” icon=”fa fa-arrow-right2″ uncode_shortcode_id=”202864″ link=”url:%23|target:_blank” button_color_type=”uncode-palette”]Register Now[/vc_button][/vc_column][vc_column width=”1/3″][/vc_column][vc_column width=”1/3″][/vc_column][/vc_row]
URL:https://mcanwo.org/event/occupational-safety-and-health-administration-4-2/
LOCATION:MCA of NW Ohio
CATEGORIES:2022 Safety Courses
END:VEVENT
BEGIN:VEVENT
DTSTART;TZID=UTC:20221114T163000
DTEND;TZID=UTC:20221114T203000
DTSTAMP:20260423T213551
CREATED:20221004T150451Z
LAST-MODIFIED:20221028T202153Z
UID:110110-1668443400-1668457800@mcanwo.org
SUMMARY:CPR
DESCRIPTION:[vc_row][vc_column column_width_percent=”100″ position_horizontal=”left” gutter_size=”3″ overlay_alpha=”50″ shift_x=”0″ shift_y=”0″ shift_y_down=”0″ z_index=”0″ medium_width=”0″ mobile_width=”0″ width=”1/3″ uncode_shortcode_id=”134311″][vc_single_image media=”110206″ media_width_percent=”100″ uncode_shortcode_id=”117108″][vc_button button_color=”accent” wide=”yes” border_width=”0″ icon_position=”right” scale_mobile=”no” icon=”fa fa-arrow-right2″ uncode_shortcode_id=”202864″ link=”url:%23|target:_blank” button_color_type=”uncode-palette”]Register Now[/vc_button][/vc_column][vc_column width=”1/3″][/vc_column][vc_column width=”1/3″][/vc_column][/vc_row]
URL:https://mcanwo.org/event/cpr/
LOCATION:MCA of NW Ohio
CATEGORIES:2022 Safety Courses
END:VEVENT
BEGIN:VEVENT
DTSTART;TZID=UTC:20221109T163000
DTEND;TZID=UTC:20221109T183000
DTSTAMP:20260423T213551
CREATED:20221004T145931Z
LAST-MODIFIED:20221028T202039Z
UID:110100-1668011400-1668018600@mcanwo.org
SUMMARY:Drug Free Workplace Employee/Supervisor Class
DESCRIPTION:[vc_row][vc_column column_width_percent=”100″ position_horizontal=”left” gutter_size=”3″ overlay_alpha=”50″ shift_x=”0″ shift_y=”0″ shift_y_down=”0″ z_index=”0″ medium_width=”0″ mobile_width=”0″ width=”1/3″ uncode_shortcode_id=”134311″][vc_single_image media=”110206″ media_width_percent=”100″ uncode_shortcode_id=”117108″][vc_button button_color=”accent” wide=”yes” border_width=”0″ icon_position=”right” scale_mobile=”no” icon=”fa fa-arrow-right2″ uncode_shortcode_id=”202864″ link=”url:%23|target:_blank” button_color_type=”uncode-palette”]Register Now[/vc_button][/vc_column][vc_column width=”1/3″][/vc_column][vc_column width=”1/3″][/vc_column][/vc_row]
URL:https://mcanwo.org/event/drug-free-workplace-2/
LOCATION:MCA of NW Ohio
END:VEVENT
BEGIN:VEVENT
DTSTART;TZID=UTC:20221019T163000
DTEND;TZID=UTC:20221019T203000
DTSTAMP:20260423T213551
CREATED:20221004T150203Z
LAST-MODIFIED:20221028T201821Z
UID:110104-1666197000-1666211400@mcanwo.org
SUMMARY:OSHA 4 Refresher
DESCRIPTION:[vc_row][vc_column column_width_percent=”100″ position_horizontal=”left” gutter_size=”3″ overlay_alpha=”50″ shift_x=”0″ shift_y=”0″ shift_y_down=”0″ z_index=”0″ medium_width=”0″ mobile_width=”0″ width=”1/3″ uncode_shortcode_id=”134311″][vc_single_image media=”110206″ media_width_percent=”100″ uncode_shortcode_id=”117108″][vc_button button_color=”accent” wide=”yes” border_width=”0″ icon_position=”right” scale_mobile=”no” icon=”fa fa-arrow-right2″ uncode_shortcode_id=”202864″ link=”url:%23|target:_blank” button_color_type=”uncode-palette”]Register Now[/vc_button][/vc_column][vc_column width=”1/3″][/vc_column][vc_column width=”1/3″][/vc_column][/vc_row]
URL:https://mcanwo.org/event/occupational-safety-and-health-administration-4/
LOCATION:MCA of NW Ohio
CATEGORIES:2022 Safety Courses
END:VEVENT
BEGIN:VEVENT
DTSTART;TZID=UTC:20221011T163000
DTEND;TZID=UTC:20221011T183000
DTSTAMP:20260423T213551
CREATED:20221004T145801Z
LAST-MODIFIED:20221028T202033Z
UID:110098-1665505800-1665513000@mcanwo.org
SUMMARY:Drug Free Workplace Employee/Supervisor Class
DESCRIPTION:[vc_row][vc_column column_width_percent=”100″ position_horizontal=”left” gutter_size=”3″ overlay_alpha=”50″ shift_x=”0″ shift_y=”0″ shift_y_down=”0″ z_index=”0″ medium_width=”0″ mobile_width=”0″ width=”1/3″ uncode_shortcode_id=”134311″][vc_single_image media=”110206″ media_width_percent=”100″ uncode_shortcode_id=”117108″][vc_button button_color=”accent” wide=”yes” border_width=”0″ icon_position=”right” scale_mobile=”no” icon=”fa fa-arrow-right2″ uncode_shortcode_id=”202864″ link=”url:%23|target:_blank” button_color_type=”uncode-palette”]Register Now[/vc_button][/vc_column][vc_column width=”1/3″][/vc_column][vc_column width=”1/3″][/vc_column][/vc_row]
URL:https://mcanwo.org/event/drug-free-workplace/
LOCATION:MCA of NW Ohio
CATEGORIES:2022 Safety Courses
END:VEVENT
BEGIN:VEVENT
DTSTART;TZID=UTC:20220817T113000
DTEND;TZID=UTC:20220817T130000
DTSTAMP:20260423T213551
CREATED:20220705T204824Z
LAST-MODIFIED:20221007T190303Z
UID:109535-1660735800-1660741200@mcanwo.org
SUMMARY:MCA Membership Meeting
DESCRIPTION:[vc_row][vc_column column_width_percent=”100″ position_horizontal=”left” gutter_size=”3″ overlay_alpha=”50″ shift_x=”0″ shift_y=”0″ shift_y_down=”0″ z_index=”0″ medium_width=”0″ mobile_width=”0″ width=”1/3″ uncode_shortcode_id=”134311″][vc_button button_color=”accent” wide=”yes” border_width=”0″ icon_position=”right” scale_mobile=”no” icon=”fa fa-arrow-right2″ uncode_shortcode_id=”647791″ link=”url:%23|target:_blank” button_color_type=”uncode-palette”]Register Now[/vc_button][/vc_column][vc_column width=”1/3″][/vc_column][vc_column width=”1/3″][/vc_column][/vc_row]
URL:https://mcanwo.org/event/mca-membership-meeting/
CATEGORIES:Meetings / Events
ATTACH;FMTTYPE=image/jpeg:https://mcanwo.org/wp-content/uploads/2022/06/shutterstock_1805842198.jpg
END:VEVENT
BEGIN:VEVENT
DTSTART;TZID=UTC:20220720T113000
DTEND;TZID=UTC:20220720T130000
DTSTAMP:20260423T213551
CREATED:20220624T185023Z
LAST-MODIFIED:20221007T190435Z
UID:109419-1658316600-1658322000@mcanwo.org
SUMMARY:MCA Executive BOD Meeting
DESCRIPTION:[vc_row][vc_column column_width_percent=”100″ position_horizontal=”left” gutter_size=”3″ overlay_alpha=”50″ shift_x=”0″ shift_y=”0″ shift_y_down=”0″ z_index=”0″ medium_width=”0″ mobile_width=”0″ width=”1/3″ uncode_shortcode_id=”134311″][vc_button button_color=”accent” wide=”yes” border_width=”0″ icon_position=”right” scale_mobile=”no” icon=”fa fa-arrow-right2″ uncode_shortcode_id=”647791″ link=”url:%23|target:_blank” button_color_type=”uncode-palette”]Register Now[/vc_button][/vc_column][vc_column width=”1/3″][/vc_column][vc_column width=”1/3″][/vc_column][/vc_row]
URL:https://mcanwo.org/event/mca-executive-bod-meeting/
CATEGORIES:Meetings / Events
ATTACH;FMTTYPE=image/jpeg:https://mcanwo.org/wp-content/uploads/2022/06/shutterstock_1529073962.jpg
END:VEVENT
END:VCALENDAR