BEGIN:VCALENDAR
VERSION:2.0
PRODID:-//MCANWO - ECPv6.15.17.1//NONSGML v1.0//EN
CALSCALE:GREGORIAN
METHOD:PUBLISH
X-ORIGINAL-URL:https://mcanwo.org
X-WR-CALDESC:Events for MCANWO
REFRESH-INTERVAL;VALUE=DURATION:PT1H
X-Robots-Tag:noindex
X-PUBLISHED-TTL:PT1H
BEGIN:VTIMEZONE
TZID:UTC
BEGIN:STANDARD
TZOFFSETFROM:+0000
TZOFFSETTO:+0000
TZNAME:UTC
DTSTART:20220101T000000
END:STANDARD
END:VTIMEZONE
BEGIN:VEVENT
DTSTART;TZID=UTC:20231201T150000
DTEND;TZID=UTC:20231201T180000
DTSTAMP:20260423T022130
CREATED:20231023T164904Z
LAST-MODIFIED:20231023T164904Z
UID:110960-1701442800-1701453600@mcanwo.org
SUMMARY:MCA Christmas Party
DESCRIPTION:Christmas
URL:https://mcanwo.org/event/mca-christmas-party/
LOCATION:Maumee Bay Brewing Company\, 27 Broadway Street\, Toledo\, OH\, 43604\, United States
CATEGORIES:Meetings / Events
END:VEVENT
BEGIN:VEVENT
DTSTART;TZID=UTC:20231130T170000
DTEND;TZID=UTC:20231130T200000
DTSTAMP:20260423T022130
CREATED:20230728T131946Z
LAST-MODIFIED:20230728T131946Z
UID:110867-1701363600-1701374400@mcanwo.org
SUMMARY:Valve Repair Recertification
DESCRIPTION:Please contact the Piping Industry Training Center to register 419-666-7482.
URL:https://mcanwo.org/event/valve-repair-recertification/
LOCATION:Piping Industry Training Center\, 7560 Caple Blvd\, Northwood\, OH\, 43619\, United States
CATEGORIES:PITC Training
END:VEVENT
BEGIN:VEVENT
DTSTART;TZID=UTC:20231129T120000
DTEND;TZID=UTC:20231129T130000
DTSTAMP:20260423T022130
CREATED:20230809T162843Z
LAST-MODIFIED:20230809T162843Z
UID:110903-1701259200-1701262800@mcanwo.org
SUMMARY:Virtual Education - Conflict Managment with Kelli Kopocis
DESCRIPTION:TBA
URL:https://mcanwo.org/event/virtual-education-conflict-managment-with-kelli-kopocis/
LOCATION:Virtual
CATEGORIES:Contractor Education,MCA Training
END:VEVENT
BEGIN:VEVENT
DTSTART;TZID=UTC:20231128T170000
DTEND;TZID=UTC:20231128T200000
DTSTAMP:20260423T022130
CREATED:20230728T131835Z
LAST-MODIFIED:20230728T131835Z
UID:110865-1701190800-1701201600@mcanwo.org
SUMMARY:Backflow Recertification
DESCRIPTION:Please contact the Piping Industry Training center to register 419-666-7482.
URL:https://mcanwo.org/event/backflow-recertification-2/
LOCATION:Piping Industry Training Center\, 7560 Caple Blvd\, Northwood\, OH\, 43619\, United States
CATEGORIES:PITC Training
END:VEVENT
BEGIN:VEVENT
DTSTART;TZID=UTC:20231122T170000
DTEND;TZID=UTC:20231122T200000
DTSTAMP:20260423T022130
CREATED:20230728T131637Z
LAST-MODIFIED:20230728T131637Z
UID:110863-1700672400-1700683200@mcanwo.org
SUMMARY:Rigging Recertification
DESCRIPTION:Please contact The Piping Industry Training Center to register.
URL:https://mcanwo.org/event/rigging-recertification/
LOCATION:Piping Industry Training Center\, 7560 Caple Blvd\, Northwood\, OH\, 43619\, United States
CATEGORIES:PITC Training
END:VEVENT
BEGIN:VEVENT
DTSTART;TZID=UTC:20231120T170000
DTEND;TZID=UTC:20231120T200000
DTSTAMP:20260423T022130
CREATED:20230728T131524Z
LAST-MODIFIED:20230728T131524Z
UID:110861-1700499600-1700510400@mcanwo.org
SUMMARY:Backflow Certification
DESCRIPTION:Please contact The Piping Industry Training Center to register.
URL:https://mcanwo.org/event/backflow-certification-2/
LOCATION:Piping Industry Training Center\, 7560 Caple Blvd\, Northwood\, OH\, 43619\, United States
CATEGORIES:PITC Training
END:VEVENT
BEGIN:VEVENT
DTSTART;TZID=UTC:20231115T120000
DTEND;TZID=UTC:20231115T140000
DTSTAMP:20260423T022130
CREATED:20230717T173803Z
LAST-MODIFIED:20230717T173803Z
UID:110824-1700049600-1700056800@mcanwo.org
SUMMARY:Contractor Ethics
DESCRIPTION:This course is designed for members/contributors of the MCA of NW Ohio and will be offered November 15\, 2023\, from 12:00pm – 2:00pm. \nCourse description: \nEngineers and Contractors are confronted with a variety of ethical situations every day. Familiarity with relevant ethical codes that govern the construction industry is critical in order to fashion an appropriate response to those situations. A review of strengths and weaknesses of ethical codes as well as state and federal laws will be discussed. Case studies in engineering ethics will be discussed as well as the steps needed to make an ethical decision. \nSpeaker Bio: \nBlake Wentz\, PhD\, CPC\, LEED®-AP has a Bachelor’s degree in Finance and a Master’s degree in Engineering from the University of Nebraska. In 2013\, he obtained his PhD from Indiana State University. He owned and operated his family’s mechanical contracting business\, Wentz Plumbing and Heating\, in Lincoln\, NE for five years before becoming a college professor\, leading multiple\, large-scale and complex projects throughout Nebraska\, Iowa\, and Kansas. \nHe spent 15 years at Milwaukee School of Engineering (MSOE) serving as the Director of the Construction Management Program for five years. In 2013\, Blake assumed the role of Owners Representative and managed a portfolio of construction projects for the campus including: Grohmann Tower\, Renovations to MSOE Campus Center\, Dwight & Dian Diercks Computational Science Hall\, Raider Baseball Stadium\, and Viets Memorial Tower. In 2014\, he was promoted to Chair of the Civil\, Architectural Engineering & Construction Management Department where he served until leaving the university in 2020. Blake relocated to Chico\, CA in 2020 where he accepted the position of Dean of the College of Engineering\, Computer Science & Construction Management at California State University\, Chico. \nBlake was the faculty advisor for the Mechanical Contractors Association of America (MCAA) Student Chapter at MSOE\, where his competition teams qualified for the national finals eight times. His team won the National Title in 2011\, 2013\, and 2019. He was named National Educator of the Year for the MCAA in 2011\, 2012\, 2015 and 2018. Blake currently serves as the President of the Associated Schools of Construction\, an international organization of over 160 universities across the world that focus on the advancement of construction education. He is also involved in consulting activities\, has been an expert witness for construction legal disputes\, and is a co-author of the textbook “Construction Law for Design Professionals\, Construction Managers and Contractors.” \nIn his spare time\, Blake is an avid tennis player\, where he was a member of the varsity tennis team at the University of Nebraska from 1995-1999.  He is also a car enthusiast who enjoys working on cars but also heading to the track to race them as well. He’s a proud owner of a 2018 Ford Shelby GT 350\, and a pair of “firing boots\,” (you’ll have to ask him about the backstory of the boots sometime). \nOCILB: 2.0
URL:https://mcanwo.org/event/contractor-ethics/
LOCATION:Virtual
CATEGORIES:Contractor Education,MCA Training
END:VEVENT
BEGIN:VEVENT
DTSTART;TZID=UTC:20231115T120000
DTEND;TZID=UTC:20231115T130000
DTSTAMP:20260423T022130
CREATED:20230124T185856Z
LAST-MODIFIED:20230124T185856Z
UID:110471-1700049600-1700053200@mcanwo.org
SUMMARY:MCA Membership Meeting
DESCRIPTION:
URL:https://mcanwo.org/event/mca-membership-meeting-2/
LOCATION:MCA of NW Ohio
CATEGORIES:Meetings / Events
END:VEVENT
BEGIN:VEVENT
DTSTART;TZID=UTC:20231115T103000
DTEND;TZID=UTC:20231115T113000
DTSTAMP:20260423T022130
CREATED:20230124T185646Z
LAST-MODIFIED:20230124T185953Z
UID:110469-1700044200-1700047800@mcanwo.org
SUMMARY:MCA Executive BOD Meeting
DESCRIPTION:
URL:https://mcanwo.org/event/mca-executive-bod-meeting-2/
LOCATION:MCA of NW Ohio
END:VEVENT
BEGIN:VEVENT
DTSTART;TZID=UTC:20231114T163000
DTEND;TZID=UTC:20231114T203000
DTSTAMP:20260423T022130
CREATED:20221031T130829Z
LAST-MODIFIED:20221031T130851Z
UID:110240-1699979400-1699993800@mcanwo.org
SUMMARY:CPR
DESCRIPTION:[vc_row][vc_column column_width_percent=”100″ position_horizontal=”left” gutter_size=”3″ overlay_alpha=”50″ shift_x=”0″ shift_y=”0″ shift_y_down=”0″ z_index=”0″ medium_width=”0″ mobile_width=”0″ width=”1/3″ uncode_shortcode_id=”134311″][vc_single_image media=”110206″ media_width_percent=”100″ uncode_shortcode_id=”117108″][vc_button button_color=”accent” wide=”yes” border_width=”0″ icon_position=”right” scale_mobile=”no” icon=”fa fa-arrow-right2″ uncode_shortcode_id=”202864″ link=”url:%23|target:_blank” button_color_type=”uncode-palette”]Register Now[/vc_button][/vc_column][vc_column width=”1/3″][/vc_column][vc_column width=”1/3″][/vc_column][/vc_row]
URL:https://mcanwo.org/event/cpr-5/
CATEGORIES:2023 Safety Courses
END:VEVENT
BEGIN:VEVENT
DTSTART;TZID=UTC:20231110T090000
DTEND;TZID=UTC:20231110T140000
DTSTAMP:20260423T022130
CREATED:20221228T210316Z
LAST-MODIFIED:20230103T210428Z
UID:110396-1699606800-1699624800@mcanwo.org
SUMMARY:NEC Code Updates
DESCRIPTION:NEC Electrical Code Updates with John Labriola
URL:https://mcanwo.org/event/nec-code-updates/
LOCATION:MCA of NW Ohio
CATEGORIES:Contractor Education,MCA Training
END:VEVENT
BEGIN:VEVENT
DTSTART;TZID=UTC:20231031T090000
DTEND;TZID=UTC:20231031T110000
DTSTAMP:20260423T022130
CREATED:20221228T210150Z
LAST-MODIFIED:20230116T135914Z
UID:110394-1698742800-1698750000@mcanwo.org
SUMMARY:Learn to Manage Customer Hostility
DESCRIPTION:Course Description \nSteve was raised in the mechanical contracting industry and spent over 15 years managing home warranty repairs. He discovered the sooner a problem can be moved to resolution and kept out of the hands of management\, rating services and/or lawyers\, the sooner contractors can move on to service the next customer. His experience and time spent in the field of HVAC work prepared him to be an effective trainer. \nSteve’s course will start with a dramatic\, real-life scenario to provide the audience with a picture of the mindset of the customer. Next\, he will introduce four classic stages of anger and outline what how to address each. \nThe four stages of anger include: \n\nCalm – No resolution needed.\nAnnoyed – Need resolution.\nFrustrated – The customer is asking for the company to bend\, provide more than what is normal.\nFurious – The customer wants to see the company suffer and they do not care how much money and time they must exhaust to get it.  This is caused by an egregious lack of concern on the company’s part.\n\nRealistically\, any person in a company who is answering a phone\, email\, instant message or greeting someone in person needs to understand that customers are classified at level two where stress has already escalated enough to begin communicating with your business. \nEveryone\, including customers\, can move through the four stages of anger. Steve will demonstrate this using many situations to address circumstances leading to each level of anger and verbal tools to seek a resolution. He will teach techniques on how to deal with customers\, provide service technicians and staff with the tools to better deal with each other so no one feels marginalized.
URL:https://mcanwo.org/event/learn-to-manage-customer-hostility/
LOCATION:MCA of NW Ohio
CATEGORIES:Contractor Education,MCA Training
END:VEVENT
BEGIN:VEVENT
DTSTART;TZID=UTC:20231019T100000
DTEND;TZID=UTC:20231019T120000
DTSTAMP:20260423T022130
CREATED:20230907T181011Z
LAST-MODIFIED:20230907T184133Z
UID:110940-1697709600-1697716800@mcanwo.org
SUMMARY:Bluebeam Overview
DESCRIPTION:Course Title:      Bluebeam Overview \nCredit Hours: 1.0 \nInstructor:          Ginnie Floraday \nThis course is designed for members/contributors of the MCA of NW Ohio and will be offered October 19\, 2023\, from 10:00am – 11:00am. \nBluebeam Overview: \nBluebeam is a software application primarily used in the construction and design industries for digital collaboration\, document management\, and PDF editing. It provides a range of tools and features that streamline the processes of creating\, editing\, sharing\, and reviewing digital documents\, particularly those in PDF format. Architects\, engineers\, and builders use Bluebeam software to finish projects faster\, reduce risk\, and maximize ROI. \nSome key aspects and features of this Bluebeam Product Overview include: \n\nScreen Layout\nNavigation Bar\nEditing and Markups\nManaging Documents\n\nBluebeam has gained popularity in the architecture\, engineering\, and construction (AEC) industries for its ability to streamline document workflows\, reduce paper usage\, and enhance collaboration among project teams. It has become an essential tool for professionals in these fields who rely on accurate and efficient document management and communication during the project lifecycle. \nThis course offers a fundamental introduction to this tool. Upon completion of the course\, you will have the assurance to proceed confidently with the general operations of your business. \nBIO: \n Ginnie Floraday has consulted and taught technology courses for over two decades. Floraday’s primary areas of expertise include corporate training and database development in Microsoft Access. She trains and consults remotely and on-site in various platforms\, including the Microsoft Office Suite\, Blue Beam Revu\, and iOS (iPad\, iPhone). Floraday encourages her clients to explore and use the tools in order to build a more comfortable relationship with the software. \nPlease contact Alex Baker\, abaker@mcanwo.org\, to register. \n  \n 
URL:https://mcanwo.org/event/bluebeam-overview/
LOCATION:Virtual
END:VEVENT
BEGIN:VEVENT
DTSTART;TZID=UTC:20231018T113000
DTEND;TZID=UTC:20231018T130000
DTSTAMP:20260423T022130
CREATED:20230710T164607Z
LAST-MODIFIED:20230711T140315Z
UID:110808-1697628600-1697634000@mcanwo.org
SUMMARY:MCA Membership Meeting
DESCRIPTION:
URL:https://mcanwo.org/event/mca-membership-meeting-3/
LOCATION:MCA of NW Ohio
CATEGORIES:Meetings / Events,Contractor Education
END:VEVENT
BEGIN:VEVENT
DTSTART;TZID=UTC:20231018T100000
DTEND;TZID=UTC:20231018T113000
DTSTAMP:20260423T022130
CREATED:20221221T193010Z
LAST-MODIFIED:20230711T140223Z
UID:110350-1697623200-1697628600@mcanwo.org
SUMMARY:October Executive BOD Meeting
DESCRIPTION:
URL:https://mcanwo.org/event/october-executive-bod-meeting/
LOCATION:MCA of NW Ohio
CATEGORIES:Meetings / Events
END:VEVENT
BEGIN:VEVENT
DTSTART;TZID=UTC:20231012T160000
DTEND;TZID=UTC:20231012T180000
DTSTAMP:20260423T022130
CREATED:20230720T185056Z
LAST-MODIFIED:20230720T185056Z
UID:110841-1697126400-1697133600@mcanwo.org
SUMMARY:Apprentice Meet & Greet
DESCRIPTION:
URL:https://mcanwo.org/event/apprentice-meet-greet/
LOCATION:MCA of NW Ohio
CATEGORIES:Meetings / Events,Contractor Education
END:VEVENT
BEGIN:VEVENT
DTSTART;TZID=UTC:20231011T120000
DTEND;TZID=UTC:20231011T140000
DTSTAMP:20260423T022130
CREATED:20230714T142522Z
LAST-MODIFIED:20230714T142522Z
UID:110819-1697025600-1697032800@mcanwo.org
SUMMARY:Change Order Bootcamp
DESCRIPTION:CHANGE ORDER BOOTCAMP WITH TROY AICHELE\nThis course teaches the different types of changes that occur on a project\, and how to handle them properly: \n\nChange Order Management Methods\, SOPs (Standard Operating Procedures)\, Documentation\, Risk Management and Notification Strategies\nTypes of Change Order Impacts and Productivity Correction Factors\nSequential Steps and Best Practices in Identifying\, Pricing and Selling Change Orders\n\n\n\n\n\nRecommended Audience: \nConstruction Managers \nProject Managers | APMs \nForeman \nField Leadership \nOCILB – 2.0
URL:https://mcanwo.org/event/change-order-bootcamp/
LOCATION:Virtual
CATEGORIES:Contractor Education,MCA Training
END:VEVENT
BEGIN:VEVENT
DTSTART;TZID=UTC:20230920T113000
DTEND;TZID=UTC:20230920T130000
DTSTAMP:20260423T022130
CREATED:20221221T190542Z
LAST-MODIFIED:20230106T145607Z
UID:110347-1695209400-1695214800@mcanwo.org
SUMMARY:September Membership Meeting
DESCRIPTION:September Membership Meeting 2023
URL:https://mcanwo.org/event/september-membership-meeting/
LOCATION:MCA of NW Ohio
CATEGORIES:Meetings / Events
END:VEVENT
BEGIN:VEVENT
DTSTART;TZID=UTC:20230920T103000
DTEND;TZID=UTC:20230920T113000
DTSTAMP:20260423T022130
CREATED:20221221T190200Z
LAST-MODIFIED:20221221T190200Z
UID:110345-1695205800-1695209400@mcanwo.org
SUMMARY:September Executive BOD Meeting
DESCRIPTION:
URL:https://mcanwo.org/event/september-executive-bod-meeting/
LOCATION:MCA of NW Ohio
CATEGORIES:Meetings / Events
END:VEVENT
BEGIN:VEVENT
DTSTART;TZID=UTC:20230913T113000
DTEND;TZID=UTC:20230913T130000
DTSTAMP:20260423T022130
CREATED:20230720T190927Z
LAST-MODIFIED:20230720T190927Z
UID:110845-1694604600-1694610000@mcanwo.org
SUMMARY:What Project Managers Need to be Successful
DESCRIPTION:
URL:https://mcanwo.org/event/what-project-managers-need-to-be-successful/
LOCATION:MCA of NW Ohio
CATEGORIES:Contractor Education,MCA Training
END:VEVENT
BEGIN:VEVENT
DTSTART;TZID=UTC:20230907T090000
DTEND;TZID=UTC:20230907T110000
DTSTAMP:20260423T022130
CREATED:20230720T190800Z
LAST-MODIFIED:20230720T190800Z
UID:110843-1694077200-1694084400@mcanwo.org
SUMMARY:Mechanical Blueprint Reading
DESCRIPTION:Mechanical Blueprint Reading with Blake Wentz  \nThis course will explore the various blueprints that are used in a construction project relating to the HVAC\, Plumbing\, and Fire Protection scopes of work. Typical symbols and drawing conventions will be reviewed\, as well as examples of details and notes that can have significant impacts on a project.
URL:https://mcanwo.org/event/mechanical-blueprint-reading/
LOCATION:Virtual
CATEGORIES:Contractor Education,MCA Training
END:VEVENT
BEGIN:VEVENT
DTSTART;TZID=UTC:20230906T170000
DTEND;TZID=UTC:20230906T200000
DTSTAMP:20260423T022130
CREATED:20230728T131407Z
LAST-MODIFIED:20230728T131407Z
UID:110859-1694019600-1694030400@mcanwo.org
SUMMARY:Backflow Recertification
DESCRIPTION:Please contact the Piping Industry Training Center to register.
URL:https://mcanwo.org/event/backflow-recertification/
LOCATION:Piping Industry Training Center\, 7560 Caple Blvd\, Northwood\, OH\, 43619\, United States
CATEGORIES:PITC Training
END:VEVENT
BEGIN:VEVENT
DTSTART;TZID=UTC:20230905T170000
DTEND;TZID=UTC:20230905T200000
DTSTAMP:20260423T022130
CREATED:20230728T131222Z
LAST-MODIFIED:20230728T131222Z
UID:110857-1693933200-1693944000@mcanwo.org
SUMMARY:Medical Gas Recertification
DESCRIPTION:Please contact the Piping Industry Training Center to register.
URL:https://mcanwo.org/event/medical-gas-recertification/
LOCATION:Piping Industry Training Center\, 7560 Caple Blvd\, Northwood\, OH\, 43619\, United States
CATEGORIES:PITC Training
END:VEVENT
BEGIN:VEVENT
DTSTART;TZID=UTC:20230905T170000
DTEND;TZID=UTC:20230905T200000
DTSTAMP:20260423T022130
CREATED:20230728T131055Z
LAST-MODIFIED:20230728T131055Z
UID:110855-1693933200-1693944000@mcanwo.org
SUMMARY:Rigging Certification
DESCRIPTION:Please contact the Piping Industry Training Center at 419-666-7482 to register.
URL:https://mcanwo.org/event/rigging-certification/
LOCATION:Piping Industry Training Center\, 7560 Caple Blvd\, Northwood\, OH\, 43619\, United States
CATEGORIES:PITC Training
END:VEVENT
BEGIN:VEVENT
DTSTART;TZID=UTC:20230816T090000
DTEND;TZID=UTC:20230816T120000
DTSTAMP:20260423T022130
CREATED:20221221T184610Z
LAST-MODIFIED:20230710T165250Z
UID:110343-1692176400-1692187200@mcanwo.org
SUMMARY:August Membership Meeting
DESCRIPTION:Industry Day PDF
URL:https://mcanwo.org/event/august-membership-meeting/
LOCATION:Washtenaw Community College\, 4800 E. Huron River Drive\, Ann Arbor\, MI\, 48105\, United States
CATEGORIES:Meetings / Events
END:VEVENT
BEGIN:VEVENT
DTSTART;TZID=UTC:20230814T163000
DTEND;TZID=UTC:20230814T203000
DTSTAMP:20260423T022130
CREATED:20221031T130742Z
LAST-MODIFIED:20221031T130742Z
UID:110238-1692030600-1692045000@mcanwo.org
SUMMARY:CPR
DESCRIPTION:[vc_row][vc_column column_width_percent=”100″ position_horizontal=”left” gutter_size=”3″ overlay_alpha=”50″ shift_x=”0″ shift_y=”0″ shift_y_down=”0″ z_index=”0″ medium_width=”0″ mobile_width=”0″ width=”1/3″ uncode_shortcode_id=”134311″][vc_single_image media=”110206″ media_width_percent=”100″ uncode_shortcode_id=”117108″][vc_button button_color=”accent” wide=”yes” border_width=”0″ icon_position=”right” scale_mobile=”no” icon=”fa fa-arrow-right2″ uncode_shortcode_id=”202864″ link=”url:%23|target:_blank” button_color_type=”uncode-palette”]Register Now[/vc_button][/vc_column][vc_column width=”1/3″][/vc_column][vc_column width=”1/3″][/vc_column][/vc_row]
URL:https://mcanwo.org/event/cpr-4/
CATEGORIES:2023 Safety Courses
END:VEVENT
BEGIN:VEVENT
DTSTART;TZID=UTC:20230711T120000
DTEND;TZID=UTC:20230711T130000
DTSTAMP:20260423T022130
CREATED:20221228T205822Z
LAST-MODIFIED:20230104T141402Z
UID:110390-1689076800-1689080400@mcanwo.org
SUMMARY:Engineers & Contractor Ethics with Luther Liggett
DESCRIPTION:luther liggett flyer july 2023
URL:https://mcanwo.org/event/engineers-contractor-ethics-with-luther-liggett/
LOCATION:Virtual
CATEGORIES:Contractor Education,MCA Training
END:VEVENT
BEGIN:VEVENT
DTSTART;TZID=UTC:20230622T163000
DTEND;TZID=UTC:20230622T183000
DTSTAMP:20260423T022130
CREATED:20220824T145657Z
LAST-MODIFIED:20221028T201151Z
UID:109749-1687451400-1687458600@mcanwo.org
SUMMARY:Drug Free Workplace Employee/Supervisor Class
DESCRIPTION:[vc_row][vc_column column_width_percent=”100″ position_horizontal=”left” gutter_size=”3″ overlay_alpha=”50″ shift_x=”0″ shift_y=”0″ shift_y_down=”0″ z_index=”0″ medium_width=”0″ mobile_width=”0″ width=”1/3″ uncode_shortcode_id=”134311″][vc_single_image media=”110206″ media_width_percent=”100″ uncode_shortcode_id=”117108″][vc_button button_color=”accent” wide=”yes” border_width=”0″ icon_position=”right” scale_mobile=”no” icon=”fa fa-arrow-right2″ uncode_shortcode_id=”202864″ link=”url:%23|target:_blank” button_color_type=”uncode-palette”]Register Now[/vc_button][/vc_column][vc_column width=”1/3″][/vc_column][vc_column width=”1/3″][/vc_column][/vc_row]
URL:https://mcanwo.org/event/dfwp-6/
LOCATION:MCA of NW Ohio
CATEGORIES:2023 Safety Courses
END:VEVENT
BEGIN:VEVENT
DTSTART;TZID=UTC:20230621T113000
DTEND;TZID=UTC:20230621T130000
DTSTAMP:20260423T022130
CREATED:20221221T181532Z
LAST-MODIFIED:20221227T205348Z
UID:110334-1687347000-1687352400@mcanwo.org
SUMMARY:June Membership Meeting
DESCRIPTION:June Membership Meeting
URL:https://mcanwo.org/event/june-membership-meeting/
LOCATION:MCA of NW Ohio
CATEGORIES:Meetings / Events
END:VEVENT
BEGIN:VEVENT
DTSTART;TZID=UTC:20230621T103000
DTEND;TZID=UTC:20230621T113000
DTSTAMP:20260423T022130
CREATED:20221221T181246Z
LAST-MODIFIED:20221221T181246Z
UID:110332-1687343400-1687347000@mcanwo.org
SUMMARY:June Executive BOD Meeting
DESCRIPTION:
URL:https://mcanwo.org/event/june-executive-bod-meeting/
LOCATION:MCA of NW Ohio
CATEGORIES:Meetings / Events
END:VEVENT
END:VCALENDAR