BEGIN:VCALENDAR
VERSION:2.0
PRODID:-//MCANWO - ECPv6.15.17.1//NONSGML v1.0//EN
CALSCALE:GREGORIAN
METHOD:PUBLISH
X-ORIGINAL-URL:https://mcanwo.org
X-WR-CALDESC:Events for MCANWO
REFRESH-INTERVAL;VALUE=DURATION:PT1H
X-Robots-Tag:noindex
X-PUBLISHED-TTL:PT1H
BEGIN:VTIMEZONE
TZID:UTC
BEGIN:STANDARD
TZOFFSETFROM:+0000
TZOFFSETTO:+0000
TZNAME:UTC
DTSTART:20240101T000000
END:STANDARD
END:VTIMEZONE
BEGIN:VEVENT
DTSTART;TZID=UTC:20251103T120000
DTEND;TZID=UTC:20251103T160000
DTSTAMP:20260422T053435
CREATED:20250806T123612Z
LAST-MODIFIED:20250806T123612Z
UID:111399-1762171200-1762185600@mcanwo.org
SUMMARY:Virtual Education - Communicating in a Crisis
DESCRIPTION:Somewhere within every organization\, a crisis is waiting to happen. Maybe tomorrow\, maybe next year or even in five years; you can’t be sure what the crisis will be or when it will strike. But you can be sure that a crisis will put your organization’s hard-earned image and reputation up for grabs. This timely session teaches attendees actionable keys to swaying internal and external perception during a negative event. Attendees will learn how to respond to questions briefly and directly\, and learn how to control the flow of information in a crisis \n  \n\nPLANNING FOR A CRISIS – Arm yourself with a reputation-saving crisis response framework.\nPROTECTING YOUR REPUTATION – Gain 10 battle-proven tips to survive any crisis and live another day.\nFILLING THE RESERVOIR OF GOODWILL – Understand how to win in the court of public opinion.\nCONTROLLING THE NEWS MEDIA – Buy your team time when the hard questions are asked.\n\n  \n\nCOMMUNICATING IN A CRISIS – Overcome the biggest mistake companies make in a crisis.\n\n   \nSpeaker Bio: \n Anthony Huey \nAnthony Huey\, CSP®\, is a highly rated international speaker who offers session attendees pragmatic communications tools\, tips and techniques they can use immediately. Anthony has presented more than 3\,500 paid communications workshops\, seminars and speeches in his career\, and was named a Certified Speaking Professional (CSP) by The National Speakers Association\, an honor awarded to less than 12% of its speakers worldwide. Anthony’s 25-year career includes tenures as a news reporter and senior editor\, crisis management specialist\, media relations consultant and executive speech coach. He owns Reputation Management\, LLC\, one of the nation’s leading communications training and crisis consulting companies. His past client work includes a wide variety of advertising\, public relations and communications initiatives for hundreds of trade associations\, municipalities and companies\, including Nike\, Victoria’s Secret\, Eli Lilly\, Nationwide Insurance\, The Kroger Company\, Procter & Gamble\, and many more. Anthony holds a bachelor’s degree in journalism from The Ohio State University \n  \n Offered through MCAA Affiliate Alliance 
URL:https://mcanwo.org/event/virtual-education-communicating-in-a-crisis/
LOCATION:Virtual
CATEGORIES:Contractor Education
END:VEVENT
BEGIN:VEVENT
DTSTART;TZID=UTC:20251121T110000
DTEND;TZID=UTC:20251121T120000
DTSTAMP:20260422T053435
CREATED:20250806T123808Z
LAST-MODIFIED:20250806T123808Z
UID:111401-1763722800-1763726400@mcanwo.org
SUMMARY:Virtual Education - Habits for a Great Night Sleep - Sweet Dreams
DESCRIPTION:Sweet Dreams: How to Fall Asleep More Quickly\, Spend Less Time Awake\, And Get More Sleep \nHabits for a Great Night Sleep \nThe Centers for Disease Control and Prevention says 1 in 3 Americans aren’t getting enough sleep and calls insufficient sleep a public health epidemic. If you’re not getting at least 7 hours of sleep each night\, you may be at risk for a wide range of health consequences. \nAccording to the National Safety Council\, 13% of workplace injuries are linked to fatigue. Their research reveals that 27% of workers have fallen asleep unintentionally at work in the past month\, and 16% have fallen asleep while driving! \nIt’s not just a safety issue. Research by Rand shows that workers who sleep less than six hours a night lose about six days of productivity per year compared to those who get 7-9 hours of sleep. \nSince roughly 30% of your employees may be dealing with sleep issues\, this can result in lost productivity and heightened safety risks. \nIf you struggle to fall asleep and stay asleep\, if you fall asleep when you sit down to watch tv\, if you catch up on sleep on the weekend\, if your performance or memory are impaired\, and if you don’t have as much energy and enthusiasm during the day as you’d like\, discover the sleep habits that will help you get more sweet dreams. \nIn this webinar\, Sharon Lipinski\, CEO & author of 365 Ways to Live Generously: Simple Habits for a Life That’s Good for You and for Others\, will share \n• The 9 bad habits that are ruining your good night’s sleep. \n• The 5 nighttime habits you want to create. \n• The 4-day time habits that set you up for a great night’s sleep. \nEverything is better after a good night sleep and this webinar will help you get it. \n Speaker Bio: \n Sharon Lipinski is the CEO of Habit Mastery Consulting and a Certified Corporate Wellness Specialist who helps organizations turn knowledge into consistent\, safe action on the job. Specializing in workplace habit formation\, she has helped companies improve safety compliance through practical\, behavior-based strategies. Sharon is known for her engaging presentations\, real-world insights\, and ability to connect with workers at all levels. She’s delivered hundreds of hours of training across the country and is the author of 365 Ways to Live Generously. As a Guinness World Record holder and founder of the nonprofit Change Gangs\, Sharon brings a unique\, hands-on perspective to creating safer\, more productive workplaces. \nOffered through MCAA Affiliate Alliance
URL:https://mcanwo.org/event/virtual-education-habits-for-a-great-night-sleep-sweet-dreams/
LOCATION:Virtual
CATEGORIES:Contractor Education
END:VEVENT
END:VCALENDAR