BEGIN:VCALENDAR
VERSION:2.0
PRODID:-//MCANWO - ECPv6.15.17.1//NONSGML v1.0//EN
CALSCALE:GREGORIAN
METHOD:PUBLISH
X-WR-CALNAME:MCANWO
X-ORIGINAL-URL:https://mcanwo.org
X-WR-CALDESC:Events for MCANWO
REFRESH-INTERVAL;VALUE=DURATION:PT1H
X-Robots-Tag:noindex
X-PUBLISHED-TTL:PT1H
BEGIN:VTIMEZONE
TZID:UTC
BEGIN:STANDARD
TZOFFSETFROM:+0000
TZOFFSETTO:+0000
TZNAME:UTC
DTSTART:20230101T000000
END:STANDARD
END:VTIMEZONE
BEGIN:VEVENT
DTSTART;TZID=UTC:20240813T113000
DTEND;TZID=UTC:20240813T120000
DTSTAMP:20260424T054812
CREATED:20240530T155343Z
LAST-MODIFIED:20240530T155343Z
UID:111079-1723548600-1723550400@mcanwo.org
SUMMARY:Virtual Education - Stress & Coping
DESCRIPTION:Offered through MCAA Virtual Alliance \nOCILB – 1.0
URL:https://mcanwo.org/event/virtual-education-stress-coping/
LOCATION:Virtual
CATEGORIES:Contractor Education,MCA Training
END:VEVENT
END:VCALENDAR