BEGIN:VCALENDAR
VERSION:2.0
PRODID:-//MCANWO - ECPv6.15.17.1//NONSGML v1.0//EN
CALSCALE:GREGORIAN
METHOD:PUBLISH
X-WR-CALNAME:MCANWO
X-ORIGINAL-URL:https://mcanwo.org
X-WR-CALDESC:Events for MCANWO
REFRESH-INTERVAL;VALUE=DURATION:PT1H
X-Robots-Tag:noindex
X-PUBLISHED-TTL:PT1H
BEGIN:VTIMEZONE
TZID:UTC
BEGIN:STANDARD
TZOFFSETFROM:+0000
TZOFFSETTO:+0000
TZNAME:UTC
DTSTART:20230101T000000
END:STANDARD
END:VTIMEZONE
BEGIN:VEVENT
DTSTART;TZID=UTC:20240314T100000
DTEND;TZID=UTC:20240314T113000
DTSTAMP:20260424T130501
CREATED:20240125T140935Z
LAST-MODIFIED:20240125T140935Z
UID:111044-1710410400-1710415800@mcanwo.org
SUMMARY:Virtual - Changes to Construction Contracts
DESCRIPTION:Changes to Construction Contracts \nWant to get paid for contract changes? Learn from noted subcontractor attorney Aaron Dean about getting paid for completed change orders\, retainage\, and progress payments. \nProjects don’t always go the way they’re planned. More work or materials may be needed than anticipated\, mistakes might need to be repaired\, or a shift in overall vision may come mid-project. How is payment affected if these aren’t covered by the original contract? \nThis presentation will give you a deep dive into Change Orders. You’ll learn why unexpected costs happen\, fundamentals of Change Orders\, and how Change Orders affect current work. \n  \nOCILB – 1.5 hours \nMCAA Virtual Alliance
URL:https://mcanwo.org/event/virtual-changes-to-construction-contracts/
LOCATION:Virtual
CATEGORIES:Contractor Education,MCA Training
END:VEVENT
BEGIN:VEVENT
DTSTART;TZID=UTC:20240318T080000
DTEND;TZID=UTC:20240318T170000
DTSTAMP:20260424T130501
CREATED:20230728T155716Z
LAST-MODIFIED:20230728T155716Z
UID:110887-1710748800-1710781200@mcanwo.org
SUMMARY:MCAA 2024 Annual Convention - Orlando Grande Lakes
DESCRIPTION:JW Marriott Orlando – Grande Lakes\n4040 Central Florida Parkway\, Orlando\, Florida\, 32837
URL:https://mcanwo.org/event/mcaa-2024-annual-convention-orlando-grande-lakes/
CATEGORIES:Meetings / Events,Contractor Education
END:VEVENT
END:VCALENDAR