BEGIN:VCALENDAR
VERSION:2.0
PRODID:-//MCANWO - ECPv6.15.17.1//NONSGML v1.0//EN
CALSCALE:GREGORIAN
METHOD:PUBLISH
X-ORIGINAL-URL:https://mcanwo.org
X-WR-CALDESC:Events for MCANWO
REFRESH-INTERVAL;VALUE=DURATION:PT1H
X-Robots-Tag:noindex
X-PUBLISHED-TTL:PT1H
BEGIN:VTIMEZONE
TZID:UTC
BEGIN:STANDARD
TZOFFSETFROM:+0000
TZOFFSETTO:+0000
TZNAME:UTC
DTSTART:20230101T000000
END:STANDARD
END:VTIMEZONE
BEGIN:VEVENT
DTSTART;TZID=UTC:20240214T090000
DTEND;TZID=UTC:20240214T110000
DTSTAMP:20260424T143018
CREATED:20240104T193606Z
LAST-MODIFIED:20240105T130122Z
UID:111029-1707901200-1707908400@mcanwo.org
SUMMARY:Virtual Education: Using AI to Improve Efficiency & Maximize Profitability
DESCRIPTION:AI Education 2.14.24\nOCILB:  Pending \nTo register for this virtual class\, please contact Anne Saloff at asaloff@mcanwo.org \n 
URL:https://mcanwo.org/event/virtual-education-using-ai-to-improve-efficiency-maximize-profitability/
LOCATION:Virtual
CATEGORIES:Contractor Education
END:VEVENT
END:VCALENDAR